BEGIN:VCALENDAR
VERSION:2.0
PRODID:-//Feuerwehr-Zellertal - ECPv6.6.4.2//NONSGML v1.0//EN
CALSCALE:GREGORIAN
METHOD:PUBLISH
X-WR-CALNAME:Feuerwehr-Zellertal
X-ORIGINAL-URL:https://feuerwehr-zellertal.de
X-WR-CALDESC:Veranstaltungen für Feuerwehr-Zellertal
REFRESH-INTERVAL;VALUE=DURATION:PT1H
X-Robots-Tag:noindex
X-PUBLISHED-TTL:PT1H
BEGIN:VTIMEZONE
TZID:Europe/Paris
BEGIN:DAYLIGHT
TZOFFSETFROM:+0100
TZOFFSETTO:+0200
TZNAME:CEST
DTSTART:20260329T010000
END:DAYLIGHT
BEGIN:STANDARD
TZOFFSETFROM:+0200
TZOFFSETTO:+0100
TZNAME:CET
DTSTART:20261025T010000
END:STANDARD
END:VTIMEZONE
BEGIN:VEVENT
DTSTART;TZID=Europe/Paris:20260420T180000
DTEND;TZID=Europe/Paris:20260420T193000
DTSTAMP:20260420T025302
CREATED:20260126T064735Z
LAST-MODIFIED:20260126T064735Z
UID:3044-1776708000-1776713400@feuerwehr-zellertal.de
SUMMARY:FWDV Allgemein – Jugendfeuerwehr
DESCRIPTION:
URL:https://feuerwehr-zellertal.de/event/fwdv-allgemein-jugendfeuerwehr/
END:VEVENT
END:VCALENDAR