BEGIN:VCALENDAR
VERSION:2.0
PRODID:-//Feuerwehr-Zellertal - ECPv6.6.4.2//NONSGML v1.0//EN
CALSCALE:GREGORIAN
METHOD:PUBLISH
X-ORIGINAL-URL:https://feuerwehr-zellertal.de
X-WR-CALDESC:Veranstaltungen für Feuerwehr-Zellertal
REFRESH-INTERVAL;VALUE=DURATION:PT1H
X-Robots-Tag:noindex
X-PUBLISHED-TTL:PT1H
BEGIN:VTIMEZONE
TZID:Europe/Paris
BEGIN:DAYLIGHT
TZOFFSETFROM:+0100
TZOFFSETTO:+0200
TZNAME:CEST
DTSTART:20260329T010000
END:DAYLIGHT
BEGIN:STANDARD
TZOFFSETFROM:+0200
TZOFFSETTO:+0100
TZNAME:CET
DTSTART:20261025T010000
END:STANDARD
END:VTIMEZONE
BEGIN:VEVENT
DTSTART;TZID=Europe/Paris:20260729T180000
DTEND;TZID=Europe/Paris:20260729T193000
DTSTAMP:20260419T195442
CREATED:20260126T065749Z
LAST-MODIFIED:20260126T065749Z
UID:3149-1785348000-1785353400@feuerwehr-zellertal.de
SUMMARY:Mister X – Bambinifeuerwehr
DESCRIPTION:
URL:https://feuerwehr-zellertal.de/event/mister-x-bambinifeuerwehr-2/
END:VEVENT
BEGIN:VEVENT
DTSTART;TZID=Europe/Paris:20260803T190000
DTEND;TZID=Europe/Paris:20260803T210000
DTSTAMP:20260419T195442
CREATED:20260126T065532Z
LAST-MODIFIED:20260126T065532Z
UID:3100-1785783600-1785790800@feuerwehr-zellertal.de
SUMMARY:FwDV 3 - Lösch u. Hilfeleistungseinsatz – Aktive
DESCRIPTION:
URL:https://feuerwehr-zellertal.de/event/fwdv-3-loesch-u-hilfeleistungseinsatz-aktive-2/
END:VEVENT
BEGIN:VEVENT
DTSTART;TZID=Europe/Paris:20260805T180000
DTEND;TZID=Europe/Paris:20260805T193000
DTSTAMP:20260419T195442
CREATED:20260126T065749Z
LAST-MODIFIED:20260126T065749Z
UID:3150-1785952800-1785958200@feuerwehr-zellertal.de
SUMMARY:Spiele – Bambinifeuerwehr
DESCRIPTION:
URL:https://feuerwehr-zellertal.de/event/spiele-bambinifeuerwehr-2/
END:VEVENT
BEGIN:VEVENT
DTSTART;TZID=Europe/Paris:20260806T191500
DTEND;TZID=Europe/Paris:20260806T211500
DTSTAMP:20260419T195442
CREATED:20260126T065857Z
LAST-MODIFIED:20260126T065858Z
UID:3179-1786043700-1786050900@feuerwehr-zellertal.de
SUMMARY:TEF-Sitzung – GW-Mess
DESCRIPTION:
URL:https://feuerwehr-zellertal.de/event/tef-sitzung-gw-mess-3/
END:VEVENT
BEGIN:VEVENT
DTSTART;TZID=Europe/Paris:20260810T180000
DTEND;TZID=Europe/Paris:20260810T193000
DTSTAMP:20260419T195442
CREATED:20260126T064840Z
LAST-MODIFIED:20260126T064840Z
UID:3053-1786384800-1786390200@feuerwehr-zellertal.de
SUMMARY:FWDV 10 – Jugendfeuerwehr
DESCRIPTION:
URL:https://feuerwehr-zellertal.de/event/fwdv-10-jugendfeuerwehr-2/
END:VEVENT
BEGIN:VEVENT
DTSTART;TZID=Europe/Paris:20260812T180000
DTEND;TZID=Europe/Paris:20260812T190000
DTSTAMP:20260419T195442
CREATED:20260126T065750Z
LAST-MODIFIED:20260126T065750Z
UID:3151-1786557600-1786561200@feuerwehr-zellertal.de
SUMMARY:Hindernislauf – Bambinifeuerwehr
DESCRIPTION:
URL:https://feuerwehr-zellertal.de/event/hindernislauf-bambinifeuerwehr-2/
END:VEVENT
BEGIN:VEVENT
DTSTART;TZID=Europe/Paris:20260812T191500
DTEND;TZID=Europe/Paris:20260812T211500
DTSTAMP:20260419T195442
CREATED:20260126T065857Z
LAST-MODIFIED:20260126T065858Z
UID:3180-1786562100-1786569300@feuerwehr-zellertal.de
SUMMARY:Einsatzübung A-Lage – GW-Mess
DESCRIPTION:
URL:https://feuerwehr-zellertal.de/event/einsatzuebung-a-lage-gw-mess/
END:VEVENT
BEGIN:VEVENT
DTSTART;TZID=Europe/Paris:20260817T180000
DTEND;TZID=Europe/Paris:20260817T190000
DTSTAMP:20260419T195442
CREATED:20260126T064840Z
LAST-MODIFIED:20260126T064840Z
UID:3054-1786989600-1786993200@feuerwehr-zellertal.de
SUMMARY:Vorbereitung Leistungsspannge und Jugendflamme – Jugendfeuerwehr
DESCRIPTION:
URL:https://feuerwehr-zellertal.de/event/vorbereitung-leistungsspannge-und-jugendflamme-jugendfeuerwehr-11/
END:VEVENT
BEGIN:VEVENT
DTSTART;TZID=Europe/Paris:20260817T190000
DTEND;TZID=Europe/Paris:20260817T210000
DTSTAMP:20260419T195442
CREATED:20260126T065533Z
LAST-MODIFIED:20260126T065533Z
UID:3101-1786993200-1787000400@feuerwehr-zellertal.de
SUMMARY:Einsatzübung Brand  *** – Aktive
DESCRIPTION:
URL:https://feuerwehr-zellertal.de/event/einsatzuebung-brand-aktive/
END:VEVENT
BEGIN:VEVENT
DTSTART;TZID=Europe/Paris:20260819T180000
DTEND;TZID=Europe/Paris:20260819T193000
DTSTAMP:20260419T195442
CREATED:20260126T065750Z
LAST-MODIFIED:20260126T065750Z
UID:3152-1787162400-1787167800@feuerwehr-zellertal.de
SUMMARY:Spielplatz – Bambinifeuerwehr
DESCRIPTION:
URL:https://feuerwehr-zellertal.de/event/spielplatz-bambinifeuerwehr-2/
END:VEVENT
BEGIN:VEVENT
DTSTART;TZID=Europe/Paris:20260824T180000
DTEND;TZID=Europe/Paris:20260824T193000
DTSTAMP:20260419T195442
CREATED:20260126T064840Z
LAST-MODIFIED:20260126T064840Z
UID:3055-1787594400-1787599800@feuerwehr-zellertal.de
SUMMARY:Kerwe Vorbereitung – Jugendfeuerwehr
DESCRIPTION:
URL:https://feuerwehr-zellertal.de/event/kerwe-vorbereitung-jugendfeuerwehr/
END:VEVENT
BEGIN:VEVENT
DTSTART;TZID=Europe/Paris:20260826T180000
DTEND;TZID=Europe/Paris:20260826T193000
DTSTAMP:20260419T195442
CREATED:20260126T065751Z
LAST-MODIFIED:20260126T065751Z
UID:3153-1787767200-1787772600@feuerwehr-zellertal.de
SUMMARY:Fahrzeugkunde – Bambinifeuerwehr
DESCRIPTION:
URL:https://feuerwehr-zellertal.de/event/fahrzeugkunde-bambinifeuerwehr-4/
END:VEVENT
BEGIN:VEVENT
DTSTART;TZID=Europe/Paris:20260831T180000
DTEND;TZID=Europe/Paris:20260831T190000
DTSTAMP:20260419T195442
CREATED:20260126T065105Z
LAST-MODIFIED:20260126T065105Z
UID:3056-1788199200-1788202800@feuerwehr-zellertal.de
SUMMARY:Vorbereitung Leistungsspannge und Jugendflamme – Jugendfeuerwehr
DESCRIPTION:
URL:https://feuerwehr-zellertal.de/event/vorbereitung-leistungsspannge-und-jugendflamme-jugendfeuerwehr-12/
END:VEVENT
BEGIN:VEVENT
DTSTART;TZID=Europe/Paris:20260831T190000
DTEND;TZID=Europe/Paris:20260831T210000
DTSTAMP:20260419T195442
CREATED:20260126T065533Z
LAST-MODIFIED:20260126T065533Z
UID:3102-1788202800-1788210000@feuerwehr-zellertal.de
SUMMARY:Geräte und Fahrzeugpflege – Aktive
DESCRIPTION:
URL:https://feuerwehr-zellertal.de/event/geraete-und-fahrzeugpflege-aktive/
END:VEVENT
BEGIN:VEVENT
DTSTART;TZID=Europe/Paris:20260902T180000
DTEND;TZID=Europe/Paris:20260902T193000
DTSTAMP:20260419T195442
CREATED:20260126T065751Z
LAST-MODIFIED:20260126T065751Z
UID:3154-1788372000-1788377400@feuerwehr-zellertal.de
SUMMARY:Wandern – Bambinifeuerwehr
DESCRIPTION:
URL:https://feuerwehr-zellertal.de/event/wandern-bambinifeuerwehr/
END:VEVENT
BEGIN:VEVENT
DTSTART;TZID=Europe/Paris:20260907T180000
DTEND;TZID=Europe/Paris:20260907T193000
DTSTAMP:20260419T195442
CREATED:20260126T065105Z
LAST-MODIFIED:20260126T065105Z
UID:3057-1788804000-1788809400@feuerwehr-zellertal.de
SUMMARY:Kerwe Vorbereitung – Jugendfeuerwehr
DESCRIPTION:
URL:https://feuerwehr-zellertal.de/event/kerwe-vorbereitung-jugendfeuerwehr-2/
END:VEVENT
BEGIN:VEVENT
DTSTART;TZID=Europe/Paris:20260909T180000
DTEND;TZID=Europe/Paris:20260909T190000
DTSTAMP:20260419T195442
CREATED:20260126T065752Z
LAST-MODIFIED:20260126T065752Z
UID:3155-1788976800-1788980400@feuerwehr-zellertal.de
SUMMARY:Nassübung – Bambinifeuerwehr
DESCRIPTION:
URL:https://feuerwehr-zellertal.de/event/nassuebung-bambinifeuerwehr-2/
END:VEVENT
BEGIN:VEVENT
DTSTART;TZID=Europe/Paris:20260909T191500
DTEND;TZID=Europe/Paris:20260909T211500
DTSTAMP:20260419T195442
CREATED:20260126T065857Z
LAST-MODIFIED:20260126T065858Z
UID:3181-1788981300-1788988500@feuerwehr-zellertal.de
SUMMARY:Einsatzübung C-Lage – GW-Mess
DESCRIPTION:
URL:https://feuerwehr-zellertal.de/event/einsatzuebung-c-lage-gw-mess-2/
END:VEVENT
BEGIN:VEVENT
DTSTART;TZID=Europe/Paris:20260914T180000
DTEND;TZID=Europe/Paris:20260914T190000
DTSTAMP:20260419T195442
CREATED:20260126T065105Z
LAST-MODIFIED:20260126T065105Z
UID:3058-1789408800-1789412400@feuerwehr-zellertal.de
SUMMARY:Vorbereitung Leistungsspannge und Jugendflamme – Jugendfeuerwehr
DESCRIPTION:
URL:https://feuerwehr-zellertal.de/event/vorbereitung-leistungsspannge-und-jugendflamme-jugendfeuerwehr-13/
END:VEVENT
BEGIN:VEVENT
DTSTART;TZID=Europe/Paris:20260914T190000
DTEND;TZID=Europe/Paris:20260914T210000
DTSTAMP:20260419T195442
CREATED:20260126T065548Z
LAST-MODIFIED:20260126T065548Z
UID:3103-1789412400-1789419600@feuerwehr-zellertal.de
SUMMARY:Retten über tragbare Leitern – Aktive
DESCRIPTION:
URL:https://feuerwehr-zellertal.de/event/retten-ueber-tragbare-leitern-aktive-2/
END:VEVENT
BEGIN:VEVENT
DTSTART;TZID=Europe/Paris:20260916T180000
DTEND;TZID=Europe/Paris:20260916T193000
DTSTAMP:20260419T195442
CREATED:20260126T065752Z
LAST-MODIFIED:20260126T065752Z
UID:3156-1789581600-1789587000@feuerwehr-zellertal.de
SUMMARY:Bauen für Kerweumzug – Bambinifeuerwehr
DESCRIPTION:
URL:https://feuerwehr-zellertal.de/event/bauen-fuer-kerweumzug-bambinifeuerwehr/
END:VEVENT
BEGIN:VEVENT
DTSTART;TZID=Europe/Paris:20260921T180000
DTEND;TZID=Europe/Paris:20260921T193000
DTSTAMP:20260419T195442
CREATED:20260126T065105Z
LAST-MODIFIED:20260126T065105Z
UID:3059-1790013600-1790019000@feuerwehr-zellertal.de
SUMMARY:Knotenkunde – Jugendfeuerwehr
DESCRIPTION:
URL:https://feuerwehr-zellertal.de/event/knotenkunde-jugendfeuerwehr-2/
END:VEVENT
BEGIN:VEVENT
DTSTART;TZID=Europe/Paris:20260922T180000
DTEND;TZID=Europe/Paris:20260922T193000
DTSTAMP:20260419T195442
CREATED:20260126T065752Z
LAST-MODIFIED:20260126T065752Z
UID:3157-1790100000-1790105400@feuerwehr-zellertal.de
SUMMARY:Bauen für Kerweumzug – Bambinifeuerwehr
DESCRIPTION:
URL:https://feuerwehr-zellertal.de/event/bauen-fuer-kerweumzug-bambinifeuerwehr-2/
END:VEVENT
BEGIN:VEVENT
DTSTART;TZID=Europe/Paris:20260924T160000
DTEND;TZID=Europe/Paris:20260924T210000
DTSTAMP:20260419T195442
CREATED:20260126T065549Z
LAST-MODIFIED:20260126T065549Z
UID:3104-1790265600-1790283600@feuerwehr-zellertal.de
SUMMARY:Aufbau Leberknödelessen – Aktive
DESCRIPTION:
URL:https://feuerwehr-zellertal.de/event/aufbau-leberknoedelessen-aktive/
END:VEVENT
BEGIN:VEVENT
DTSTART;TZID=Europe/Paris:20260925T160000
DTEND;TZID=Europe/Paris:20260925T235900
DTSTAMP:20260419T195442
CREATED:20260126T065549Z
LAST-MODIFIED:20260126T065549Z
UID:3105-1790352000-1790380740@feuerwehr-zellertal.de
SUMMARY:Leberknödelessen – Aktive
DESCRIPTION:
URL:https://feuerwehr-zellertal.de/event/leberknoedelessen-aktive/
END:VEVENT
BEGIN:VEVENT
DTSTART;TZID=Europe/Paris:20260926T100000
DTEND;TZID=Europe/Paris:20260926T180000
DTSTAMP:20260419T195442
CREATED:20260126T065549Z
LAST-MODIFIED:20260126T065549Z
UID:3106-1790416800-1790445600@feuerwehr-zellertal.de
SUMMARY:Aufräumen Leberknödelessen/Vorbereitung Kerweumzug – Aktive
DESCRIPTION:
URL:https://feuerwehr-zellertal.de/event/aufraeumen-leberknoedelessen-vorbereitung-kerweumzug-aktive/
END:VEVENT
BEGIN:VEVENT
DTSTART;TZID=Europe/Paris:20260927T120000
DTEND;TZID=Europe/Paris:20260927T180000
DTSTAMP:20260419T195442
CREATED:20260126T065549Z
LAST-MODIFIED:20260126T065549Z
UID:3107-1790510400-1790532000@feuerwehr-zellertal.de
SUMMARY:Haschemer Kerb/Umzug – Aktive
DESCRIPTION:
URL:https://feuerwehr-zellertal.de/event/haschemer-kerb-umzug-aktive/
END:VEVENT
BEGIN:VEVENT
DTSTART;TZID=Europe/Paris:20260927T130000
DTEND;TZID=Europe/Paris:20260927T170000
DTSTAMP:20260419T195442
CREATED:20260126T065807Z
LAST-MODIFIED:20260126T065807Z
UID:3158-1790514000-1790528400@feuerwehr-zellertal.de
SUMMARY:Kerweumzug – Bambinifeuerwehr
DESCRIPTION:
URL:https://feuerwehr-zellertal.de/event/kerweumzug-bambinifeuerwehr/
END:VEVENT
BEGIN:VEVENT
DTSTART;TZID=Europe/Paris:20260928T180000
DTEND;TZID=Europe/Paris:20260928T190000
DTSTAMP:20260419T195442
CREATED:20260126T065106Z
LAST-MODIFIED:20260126T065106Z
UID:3060-1790618400-1790622000@feuerwehr-zellertal.de
SUMMARY:Vorbereitung Leistungsspannge und Jugendflamme – Jugendfeuerwehr
DESCRIPTION:
URL:https://feuerwehr-zellertal.de/event/vorbereitung-leistungsspannge-und-jugendflamme-jugendfeuerwehr-14/
END:VEVENT
BEGIN:VEVENT
DTSTART;TZID=Europe/Paris:20260930T180000
DTEND;TZID=Europe/Paris:20260930T193000
DTSTAMP:20260419T195442
CREATED:20260126T065807Z
LAST-MODIFIED:20260126T065807Z
UID:3159-1790791200-1790796600@feuerwehr-zellertal.de
SUMMARY:Teambildende Spiele – Bambinifeuerwehr
DESCRIPTION:
URL:https://feuerwehr-zellertal.de/event/teambildende-spiele-bambinifeuerwehr/
END:VEVENT
END:VCALENDAR