BEGIN:VCALENDAR
VERSION:2.0
PRODID:-//Feuerwehr-Zellertal - ECPv6.6.4.2//NONSGML v1.0//EN
CALSCALE:GREGORIAN
METHOD:PUBLISH
X-ORIGINAL-URL:https://feuerwehr-zellertal.de
X-WR-CALDESC:Veranstaltungen für Feuerwehr-Zellertal
REFRESH-INTERVAL;VALUE=DURATION:PT1H
X-Robots-Tag:noindex
X-PUBLISHED-TTL:PT1H
BEGIN:VTIMEZONE
TZID:Europe/Paris
BEGIN:DAYLIGHT
TZOFFSETFROM:+0100
TZOFFSETTO:+0200
TZNAME:CEST
DTSTART:20260329T010000
END:DAYLIGHT
BEGIN:STANDARD
TZOFFSETFROM:+0200
TZOFFSETTO:+0100
TZNAME:CET
DTSTART:20261025T010000
END:STANDARD
END:VTIMEZONE
BEGIN:VEVENT
DTSTART;TZID=Europe/Paris:20261216T180000
DTEND;TZID=Europe/Paris:20261216T193000
DTSTAMP:20260420T044731
CREATED:20260126T065825Z
LAST-MODIFIED:20260126T065825Z
UID:3168-1797444000-1797449400@feuerwehr-zellertal.de
SUMMARY:Weihnachtsfeier – Bambinifeuerwehr
DESCRIPTION:
URL:https://feuerwehr-zellertal.de/event/weihnachtsfeier-bambinifeuerwehr/
END:VEVENT
BEGIN:VEVENT
DTSTART;TZID=Europe/Paris:20261219T190000
DTEND;TZID=Europe/Paris:20261219T235900
DTSTAMP:20260420T044731
CREATED:20260126T065619Z
LAST-MODIFIED:20260126T065619Z
UID:3117-1797706800-1797724740@feuerwehr-zellertal.de
SUMMARY:Jahresabschluß – Aktive
DESCRIPTION:
URL:https://feuerwehr-zellertal.de/event/jahresabschluss-aktive/
END:VEVENT
BEGIN:VEVENT
DTSTART;TZID=Europe/Paris:20261220T130000
DTEND;TZID=Europe/Paris:20261220T180000
DTSTAMP:20260420T044731
CREATED:20260126T065633Z
LAST-MODIFIED:20260126T065633Z
UID:3118-1797771600-1797789600@feuerwehr-zellertal.de
SUMMARY:Aufräumen Jahresabschluß – Aktive
DESCRIPTION:
URL:https://feuerwehr-zellertal.de/event/aufraeumen-jahresabschluss-aktive/
END:VEVENT
BEGIN:VEVENT
DTSTART;TZID=Europe/Paris:20261221T180000
DTEND;TZID=Europe/Paris:20261221T190000
DTSTAMP:20260420T044731
CREATED:20260126T065214Z
LAST-MODIFIED:20260126T065214Z
UID:3070-1797876000-1797879600@feuerwehr-zellertal.de
SUMMARY:Vorbereitung Leistungsspannge und Jugendflamme – Jugendfeuerwehr
DESCRIPTION:
URL:https://feuerwehr-zellertal.de/event/vorbereitung-leistungsspannge-und-jugendflamme-jugendfeuerwehr-19/
END:VEVENT
BEGIN:VEVENT
DTSTART;TZID=Europe/Paris:20261221T190000
DTEND;TZID=Europe/Paris:20261221T210000
DTSTAMP:20260420T044731
CREATED:20260126T065633Z
LAST-MODIFIED:20260126T065633Z
UID:3119-1797879600-1797886800@feuerwehr-zellertal.de
SUMMARY:Geräte und Fahrzeugpflege – Aktive
DESCRIPTION:
URL:https://feuerwehr-zellertal.de/event/geraete-und-fahrzeugpflege-aktive-2/
END:VEVENT
END:VCALENDAR