BEGIN:VCALENDAR
PRODID:-//Microsoft Corporation//Outlook 16.0 MIMEDIR//EN
VERSION:2.0
METHOD:PUBLISH
X-CALSTART:20260105T180000Z
X-CALEND:20261221T200000Z
X-WR-RELCALID:{0000002E-8DD6-8475-0F90-4D4C183B7862}
X-WR-CALNAME:Unbenannt
BEGIN:VTIMEZONE
TZID:Europe/Berlin
BEGIN:STANDARD
DTSTART:16011028T030000
RRULE:FREQ=YEARLY;BYDAY=-1SU;BYMONTH=10
TZOFFSETFROM:+0200
TZOFFSETTO:+0100
END:STANDARD
BEGIN:DAYLIGHT
DTSTART:16010325T020000
RRULE:FREQ=YEARLY;BYDAY=-1SU;BYMONTH=3
TZOFFSETFROM:+0100
TZOFFSETTO:+0200
END:DAYLIGHT
END:VTIMEZONE
BEGIN:VEVENT
CLASS:PUBLIC
CREATED:20260126T062408Z
DESCRIPTION:Kuntz Marcus
DTEND;TZID=Europe/Berlin:20260105T210000
DTSTAMP:20260126T062400Z
DTSTART;TZID=Europe/Berlin:20260105T190000
LAST-MODIFIED:20260126T062409Z
LOCATION:Aktive
PRIORITY:5
SEQUENCE:0
SUMMARY;LANGUAGE=de:UVV/PSA
TRANSP:OPAQUE
UID:AAAAAF2K+bdeCPBBiaF3qmqlmkcHAF17d1rP3jtPqwOcnFH89l8AB9D7uWgAAF17d1rP3jt
	PqwOcnFH89l8AB9D8PGwAAA==
X-MICROSOFT-CDO-BUSYSTATUS:BUSY
X-MICROSOFT-CDO-IMPORTANCE:1
END:VEVENT
BEGIN:VEVENT
CLASS:PUBLIC
CREATED:20260126T062408Z
DESCRIPTION:Bayer/Kuntz D.
DTEND;TZID=Europe/Berlin:20260110T140000
DTSTAMP:20260126T062400Z
DTSTART;TZID=Europe/Berlin:20260110T100000
LAST-MODIFIED:20260126T062409Z
LOCATION:Aktive
PRIORITY:5
SEQUENCE:0
SUMMARY;LANGUAGE=de:Tannenbaum einsammeln
TRANSP:OPAQUE
UID:AAAAAF2K+bdeCPBBiaF3qmqlmkcHAF17d1rP3jtPqwOcnFH89l8AB9D7uWgAAF17d1rP3jt
	PqwOcnFH89l8AB9D8PG0AAA==
X-MICROSOFT-CDO-BUSYSTATUS:BUSY
X-MICROSOFT-CDO-IMPORTANCE:1
END:VEVENT
BEGIN:VEVENT
CLASS:PUBLIC
CREATED:20260126T062409Z
DESCRIPTION:Stork
DTEND;TZID=Europe/Berlin:20260119T210000
DTSTAMP:20260126T062400Z
DTSTART;TZID=Europe/Berlin:20260119T190000
LAST-MODIFIED:20260126T062410Z
LOCATION:Aktive
PRIORITY:5
SEQUENCE:0
SUMMARY;LANGUAGE=de:Theorie Feuerwehrdienst
TRANSP:OPAQUE
UID:AAAAAF2K+bdeCPBBiaF3qmqlmkcHAF17d1rP3jtPqwOcnFH89l8AB9D7uWgAAF17d1rP3jt
	PqwOcnFH89l8AB9D8PG4AAA==
X-MICROSOFT-CDO-BUSYSTATUS:BUSY
X-MICROSOFT-CDO-IMPORTANCE:1
END:VEVENT
BEGIN:VEVENT
CLASS:PUBLIC
CREATED:20260126T062409Z
DESCRIPTION:Alle
DTEND;TZID=Europe/Berlin:20260131T235900
DTSTAMP:20260126T062400Z
DTSTART;TZID=Europe/Berlin:20260131T190000
LAST-MODIFIED:20260126T062410Z
LOCATION:Aktive
PRIORITY:5
SEQUENCE:0
SUMMARY;LANGUAGE=de:Gemeinschaftsabend
TRANSP:OPAQUE
UID:AAAAAF2K+bdeCPBBiaF3qmqlmkcHAF17d1rP3jtPqwOcnFH89l8AB9D7uWgAAF17d1rP3jt
	PqwOcnFH89l8AB9D8PG8AAA==
X-MICROSOFT-CDO-BUSYSTATUS:BUSY
X-MICROSOFT-CDO-IMPORTANCE:1
END:VEVENT
BEGIN:VEVENT
CLASS:PUBLIC
CREATED:20260126T062409Z
DESCRIPTION:Bayer
DTEND;TZID=Europe/Berlin:20260202T210000
DTSTAMP:20260126T062400Z
DTSTART;TZID=Europe/Berlin:20260202T190000
LAST-MODIFIED:20260126T062410Z
LOCATION:Aktive
PRIORITY:5
SEQUENCE:0
SUMMARY;LANGUAGE=de:Gerätekunde / Stationsausbildung
TRANSP:OPAQUE
UID:AAAAAF2K+bdeCPBBiaF3qmqlmkcHAF17d1rP3jtPqwOcnFH89l8AB9D7uWgAAF17d1rP3jt
	PqwOcnFH89l8AB9D8PHAAAA==
X-MICROSOFT-CDO-BUSYSTATUS:BUSY
X-MICROSOFT-CDO-IMPORTANCE:1
END:VEVENT
BEGIN:VEVENT
CLASS:PUBLIC
CREATED:20260126T062409Z
DESCRIPTION:Herweck
DTEND;TZID=Europe/Berlin:20260216T210000
DTSTAMP:20260126T062400Z
DTSTART;TZID=Europe/Berlin:20260216T190000
LAST-MODIFIED:20260126T062410Z
LOCATION:Aktive
PRIORITY:5
SEQUENCE:0
SUMMARY;LANGUAGE=de:GAMS
TRANSP:OPAQUE
UID:AAAAAF2K+bdeCPBBiaF3qmqlmkcHAF17d1rP3jtPqwOcnFH89l8AB9D7uWgAAF17d1rP3jt
	PqwOcnFH89l8AB9D8PHEAAA==
X-MICROSOFT-CDO-BUSYSTATUS:BUSY
X-MICROSOFT-CDO-IMPORTANCE:1
END:VEVENT
BEGIN:VEVENT
CLASS:PUBLIC
CREATED:20260126T062410Z
DESCRIPTION:Alle
DTEND;TZID=Europe/Berlin:20260228T235900
DTSTAMP:20260126T062400Z
DTSTART;TZID=Europe/Berlin:20260228T190000
LAST-MODIFIED:20260126T062411Z
LOCATION:Aktive
PRIORITY:5
SEQUENCE:0
SUMMARY;LANGUAGE=de:Mitgliederversammlung Förderverein
TRANSP:OPAQUE
UID:AAAAAF2K+bdeCPBBiaF3qmqlmkcHAF17d1rP3jtPqwOcnFH89l8AB9D7uWgAAF17d1rP3jt
	PqwOcnFH89l8AB9D8PHIAAA==
X-MICROSOFT-CDO-BUSYSTATUS:BUSY
X-MICROSOFT-CDO-IMPORTANCE:1
END:VEVENT
BEGIN:VEVENT
CLASS:PUBLIC
CREATED:20260126T062410Z
DESCRIPTION:Kuntz D.
DTEND;TZID=Europe/Berlin:20260302T210000
DTSTAMP:20260126T062400Z
DTSTART;TZID=Europe/Berlin:20260302T190000
LAST-MODIFIED:20260126T062411Z
LOCATION:Schütze
PRIORITY:5
SEQUENCE:0
SUMMARY;LANGUAGE=de:Technische Hilfe (Theorie)
TRANSP:OPAQUE
UID:AAAAAF2K+bdeCPBBiaF3qmqlmkcHAF17d1rP3jtPqwOcnFH89l8AB9D7uWgAAF17d1rP3jt
	PqwOcnFH89l8AB9D8PHMAAA==
X-MICROSOFT-CDO-BUSYSTATUS:BUSY
X-MICROSOFT-CDO-IMPORTANCE:1
END:VEVENT
BEGIN:VEVENT
CLASS:PUBLIC
CREATED:20260126T062410Z
DESCRIPTION:Kuntz D.
DTEND;TZID=Europe/Berlin:20260307T140000
DTSTAMP:20260126T062400Z
DTSTART;TZID=Europe/Berlin:20260307T090000
LAST-MODIFIED:20260126T062411Z
LOCATION:Schütze
PRIORITY:5
SEQUENCE:0
SUMMARY;LANGUAGE=de:Technische Hilfe (Praktisch)
TRANSP:OPAQUE
UID:AAAAAF2K+bdeCPBBiaF3qmqlmkcHAF17d1rP3jtPqwOcnFH89l8AB9D7uWgAAF17d1rP3jt
	PqwOcnFH89l8AB9D8PHQAAA==
X-MICROSOFT-CDO-BUSYSTATUS:BUSY
X-MICROSOFT-CDO-IMPORTANCE:1
END:VEVENT
BEGIN:VEVENT
CLASS:PUBLIC
CREATED:20260126T062410Z
DESCRIPTION:Stork
DTEND;TZID=Europe/Berlin:20260316T210000
DTSTAMP:20260126T062400Z
DTSTART;TZID=Europe/Berlin:20260316T190000
LAST-MODIFIED:20260126T062412Z
LOCATION:Aktive
PRIORITY:5
SEQUENCE:0
SUMMARY;LANGUAGE=de:Retten über tragbare Leitern
TRANSP:OPAQUE
UID:AAAAAF2K+bdeCPBBiaF3qmqlmkcHAF17d1rP3jtPqwOcnFH89l8AB9D7uWgAAF17d1rP3jt
	PqwOcnFH89l8AB9D8PHUAAA==
X-MICROSOFT-CDO-BUSYSTATUS:BUSY
X-MICROSOFT-CDO-IMPORTANCE:1
END:VEVENT
BEGIN:VEVENT
CLASS:PUBLIC
CREATED:20260126T062411Z
DESCRIPTION:Alle
DTEND;TZID=Europe/Berlin:20260320T220000
DTSTAMP:20260126T062400Z
DTSTART;TZID=Europe/Berlin:20260320T160000
LAST-MODIFIED:20260126T062412Z
LOCATION:Aktive
PRIORITY:5
SEQUENCE:0
SUMMARY;LANGUAGE=de:Stabaus KITA-Zellertal
TRANSP:OPAQUE
UID:AAAAAF2K+bdeCPBBiaF3qmqlmkcHAF17d1rP3jtPqwOcnFH89l8AB9D7uWgAAF17d1rP3jt
	PqwOcnFH89l8AB9D8PHYAAA==
X-MICROSOFT-CDO-BUSYSTATUS:BUSY
X-MICROSOFT-CDO-IMPORTANCE:1
END:VEVENT
BEGIN:VEVENT
CLASS:PUBLIC
CREATED:20260126T062411Z
DESCRIPTION:Kuntz M.
DTEND;TZID=Europe/Berlin:20260330T210000
DTSTAMP:20260126T062400Z
DTSTART;TZID=Europe/Berlin:20260330T190000
LAST-MODIFIED:20260126T062412Z
LOCATION:Aktive
PRIORITY:5
SEQUENCE:0
SUMMARY;LANGUAGE=de:FwDV 3 - Lösch u. Hilfeleistungseinsatz
TRANSP:OPAQUE
UID:AAAAAF2K+bdeCPBBiaF3qmqlmkcHAF17d1rP3jtPqwOcnFH89l8AB9D7uWgAAF17d1rP3jt
	PqwOcnFH89l8AB9D8PHcAAA==
X-MICROSOFT-CDO-BUSYSTATUS:BUSY
X-MICROSOFT-CDO-IMPORTANCE:1
END:VEVENT
BEGIN:VEVENT
CLASS:PUBLIC
CREATED:20260126T062411Z
DESCRIPTION:Herweck
DTEND;TZID=Europe/Berlin:20260413T210000
DTSTAMP:20260126T062400Z
DTSTART;TZID=Europe/Berlin:20260413T190000
LAST-MODIFIED:20260126T062412Z
LOCATION:Aktive
PRIORITY:5
SEQUENCE:0
SUMMARY;LANGUAGE=de:ABC-Einsatz
TRANSP:OPAQUE
UID:AAAAAF2K+bdeCPBBiaF3qmqlmkcHAF17d1rP3jtPqwOcnFH89l8AB9D7uWgAAF17d1rP3jt
	PqwOcnFH89l8AB9D8PHgAAA==
X-MICROSOFT-CDO-BUSYSTATUS:BUSY
X-MICROSOFT-CDO-IMPORTANCE:1
END:VEVENT
BEGIN:VEVENT
CLASS:PUBLIC
CREATED:20260126T062411Z
DESCRIPTION:Kuntz D.
DTEND;TZID=Europe/Berlin:20260427T210000
DTSTAMP:20260126T062400Z
DTSTART;TZID=Europe/Berlin:20260427T190000
LAST-MODIFIED:20260126T062413Z
LOCATION:Aktive
PRIORITY:5
SEQUENCE:0
SUMMARY;LANGUAGE=de:Wasserentnahme offenes Gewässer
TRANSP:OPAQUE
UID:AAAAAF2K+bdeCPBBiaF3qmqlmkcHAF17d1rP3jtPqwOcnFH89l8AB9D7uWgAAF17d1rP3jt
	PqwOcnFH89l8AB9D8PHkAAA==
X-MICROSOFT-CDO-BUSYSTATUS:BUSY
X-MICROSOFT-CDO-IMPORTANCE:1
END:VEVENT
BEGIN:VEVENT
CLASS:PUBLIC
CREATED:20260126T062412Z
DESCRIPTION:Alle
DTEND;TZID=Europe/Berlin:20260501T180000
DTSTAMP:20260126T062400Z
DTSTART;TZID=Europe/Berlin:20260501T090000
LAST-MODIFIED:20260126T062413Z
LOCATION:Aktive
PRIORITY:5
SEQUENCE:0
SUMMARY;LANGUAGE=de:Wandertag Feuerwehrfest Monsheim/Weinrast
TRANSP:OPAQUE
UID:AAAAAF2K+bdeCPBBiaF3qmqlmkcHAF17d1rP3jtPqwOcnFH89l8AB9D7uWgAAF17d1rP3jt
	PqwOcnFH89l8AB9D8PHoAAA==
X-MICROSOFT-CDO-BUSYSTATUS:BUSY
X-MICROSOFT-CDO-IMPORTANCE:1
END:VEVENT
BEGIN:VEVENT
CLASS:PUBLIC
CREATED:20260126T062412Z
DESCRIPTION:Grünewald L.
DTEND;TZID=Europe/Berlin:20260511T210000
DTSTAMP:20260126T062400Z
DTSTART;TZID=Europe/Berlin:20260511T190000
LAST-MODIFIED:20260126T062413Z
LOCATION:Aktive
PRIORITY:5
SEQUENCE:0
SUMMARY;LANGUAGE=de:Vegetationsbrandbekämpfung
TRANSP:OPAQUE
UID:AAAAAF2K+bdeCPBBiaF3qmqlmkcHAF17d1rP3jtPqwOcnFH89l8AB9D7uWgAAF17d1rP3jt
	PqwOcnFH89l8AB9D8PHsAAA==
X-MICROSOFT-CDO-BUSYSTATUS:BUSY
X-MICROSOFT-CDO-IMPORTANCE:1
END:VEVENT
BEGIN:VEVENT
CLASS:PUBLIC
CREATED:20260126T062412Z
DESCRIPTION:Herweck
DTEND;TZID=Europe/Berlin:20260608T210000
DTSTAMP:20260126T062400Z
DTSTART;TZID=Europe/Berlin:20260608T190000
LAST-MODIFIED:20260126T062414Z
LOCATION:Aktive
PRIORITY:5
SEQUENCE:0
SUMMARY;LANGUAGE=de:Funkübung
TRANSP:OPAQUE
UID:AAAAAF2K+bdeCPBBiaF3qmqlmkcHAF17d1rP3jtPqwOcnFH89l8AB9D7uWgAAF17d1rP3jt
	PqwOcnFH89l8AB9D8PHwAAA==
X-MICROSOFT-CDO-BUSYSTATUS:BUSY
X-MICROSOFT-CDO-IMPORTANCE:1
END:VEVENT
BEGIN:VEVENT
CLASS:PUBLIC
CREATED:20260126T062412Z
DESCRIPTION:Alle
DTEND;TZID=Europe/Berlin:20260613T235900
DTSTAMP:20260126T062400Z
DTSTART;TZID=Europe/Berlin:20260613T140000
LAST-MODIFIED:20260126T062414Z
LOCATION:Aktive
PRIORITY:5
SEQUENCE:0
SUMMARY;LANGUAGE=de:Planwagenfahrt zur Teambildung
TRANSP:OPAQUE
UID:AAAAAF2K+bdeCPBBiaF3qmqlmkcHAF17d1rP3jtPqwOcnFH89l8AB9D7uWgAAF17d1rP3jt
	PqwOcnFH89l8AB9D8PH0AAA==
X-MICROSOFT-CDO-BUSYSTATUS:BUSY
X-MICROSOFT-CDO-IMPORTANCE:1
END:VEVENT
BEGIN:VEVENT
CLASS:PUBLIC
CREATED:20260126T062413Z
DESCRIPTION:Alle
DTEND;TZID=Europe/Berlin:20260620T235900
DTSTAMP:20260126T062400Z
DTSTART;TZID=Europe/Berlin:20260620T190000
LAST-MODIFIED:20260126T062414Z
LOCATION:Aktive
PRIORITY:5
SEQUENCE:0
SUMMARY;LANGUAGE=de:Halbjahresbesprechung
TRANSP:OPAQUE
UID:AAAAAF2K+bdeCPBBiaF3qmqlmkcHAF17d1rP3jtPqwOcnFH89l8AB9D7uWgAAF17d1rP3jt
	PqwOcnFH89l8AB9D8PH4AAA==
X-MICROSOFT-CDO-BUSYSTATUS:BUSY
X-MICROSOFT-CDO-IMPORTANCE:1
END:VEVENT
BEGIN:VEVENT
CLASS:PUBLIC
CREATED:20260126T062413Z
DESCRIPTION:Herweck
DTEND;TZID=Europe/Berlin:20260622T210000
DTSTAMP:20260126T062400Z
DTSTART;TZID=Europe/Berlin:20260622T190000
LAST-MODIFIED:20260126T062414Z
LOCATION:Aktive
PRIORITY:5
SEQUENCE:0
SUMMARY;LANGUAGE=de:Objektkunde ***
TRANSP:OPAQUE
UID:AAAAAF2K+bdeCPBBiaF3qmqlmkcHAF17d1rP3jtPqwOcnFH89l8AB9D7uWgAAF17d1rP3jt
	PqwOcnFH89l8AB9D8PH8AAA==
X-MICROSOFT-CDO-BUSYSTATUS:BUSY
X-MICROSOFT-CDO-IMPORTANCE:1
END:VEVENT
BEGIN:VEVENT
CLASS:PUBLIC
CREATED:20260126T062413Z
DESCRIPTION:Grünewald L.
DTEND;TZID=Europe/Berlin:20260706T210000
DTSTAMP:20260126T062400Z
DTSTART;TZID=Europe/Berlin:20260706T190000
LAST-MODIFIED:20260126T062414Z
LOCATION:Aktive
PRIORITY:5
SEQUENCE:0
SUMMARY;LANGUAGE=de:FwDV 7 / Atemschutznotfalltraining
TRANSP:OPAQUE
UID:AAAAAF2K+bdeCPBBiaF3qmqlmkcHAF17d1rP3jtPqwOcnFH89l8AB9D7uWgAAF17d1rP3jt
	PqwOcnFH89l8AB9D8PIAAAA==
X-MICROSOFT-CDO-BUSYSTATUS:BUSY
X-MICROSOFT-CDO-IMPORTANCE:1
END:VEVENT
BEGIN:VEVENT
CLASS:PUBLIC
CREATED:20260126T062413Z
DESCRIPTION:Airbag
DTEND;TZID=Europe/Berlin:20260720T210000
DTSTAMP:20260126T062400Z
DTSTART;TZID=Europe/Berlin:20260720T190000
LAST-MODIFIED:20260126T062415Z
LOCATION:Unwetter
PRIORITY:5
SEQUENCE:0
SUMMARY;LANGUAGE=de:FwDV3 Hilfeleistung
TRANSP:OPAQUE
UID:AAAAAF2K+bdeCPBBiaF3qmqlmkcHAF17d1rP3jtPqwOcnFH89l8AB9D7uWgAAF17d1rP3jt
	PqwOcnFH89l8AB9D8PIEAAA==
X-MICROSOFT-CDO-BUSYSTATUS:BUSY
X-MICROSOFT-CDO-IMPORTANCE:1
END:VEVENT
BEGIN:VEVENT
CLASS:PUBLIC
CREATED:20260126T062414Z
DESCRIPTION:Kuntz M.
DTEND;TZID=Europe/Berlin:20260803T210000
DTSTAMP:20260126T062400Z
DTSTART;TZID=Europe/Berlin:20260803T190000
LAST-MODIFIED:20260126T062415Z
LOCATION:Aktive
PRIORITY:5
SEQUENCE:0
SUMMARY;LANGUAGE=de:FwDV 3 - Lösch u. Hilfeleistungseinsatz
TRANSP:OPAQUE
UID:AAAAAF2K+bdeCPBBiaF3qmqlmkcHAF17d1rP3jtPqwOcnFH89l8AB9D7uWgAAF17d1rP3jt
	PqwOcnFH89l8AB9D8PIIAAA==
X-MICROSOFT-CDO-BUSYSTATUS:BUSY
X-MICROSOFT-CDO-IMPORTANCE:1
END:VEVENT
BEGIN:VEVENT
CLASS:PUBLIC
CREATED:20260126T062414Z
DESCRIPTION:Herweck
DTEND;TZID=Europe/Berlin:20260817T210000
DTSTAMP:20260126T062400Z
DTSTART;TZID=Europe/Berlin:20260817T190000
LAST-MODIFIED:20260126T062415Z
LOCATION:Aktive
PRIORITY:5
SEQUENCE:0
SUMMARY;LANGUAGE=de:Einsatzübung Brand  ***
TRANSP:OPAQUE
UID:AAAAAF2K+bdeCPBBiaF3qmqlmkcHAF17d1rP3jtPqwOcnFH89l8AB9D7uWgAAF17d1rP3jt
	PqwOcnFH89l8AB9D8PIMAAA==
X-MICROSOFT-CDO-BUSYSTATUS:BUSY
X-MICROSOFT-CDO-IMPORTANCE:1
END:VEVENT
BEGIN:VEVENT
CLASS:PUBLIC
CREATED:20260126T062414Z
DESCRIPTION:Kuntz M.
DTEND;TZID=Europe/Berlin:20260831T210000
DTSTAMP:20260126T062400Z
DTSTART;TZID=Europe/Berlin:20260831T190000
LAST-MODIFIED:20260126T062415Z
LOCATION:Aktive
PRIORITY:5
SEQUENCE:0
SUMMARY;LANGUAGE=de:Geräte und Fahrzeugpflege
TRANSP:OPAQUE
UID:AAAAAF2K+bdeCPBBiaF3qmqlmkcHAF17d1rP3jtPqwOcnFH89l8AB9D7uWgAAF17d1rP3jt
	PqwOcnFH89l8AB9D8PIQAAA==
X-MICROSOFT-CDO-BUSYSTATUS:BUSY
X-MICROSOFT-CDO-IMPORTANCE:1
END:VEVENT
BEGIN:VEVENT
CLASS:PUBLIC
CREATED:20260126T062415Z
DESCRIPTION:Stork
DTEND;TZID=Europe/Berlin:20260914T210000
DTSTAMP:20260126T062400Z
DTSTART;TZID=Europe/Berlin:20260914T190000
LAST-MODIFIED:20260126T062416Z
LOCATION:Aktive
PRIORITY:5
SEQUENCE:0
SUMMARY;LANGUAGE=de:Retten über tragbare Leitern
TRANSP:OPAQUE
UID:AAAAAF2K+bdeCPBBiaF3qmqlmkcHAF17d1rP3jtPqwOcnFH89l8AB9D7uWgAAF17d1rP3jt
	PqwOcnFH89l8AB9D8PIUAAA==
X-MICROSOFT-CDO-BUSYSTATUS:BUSY
X-MICROSOFT-CDO-IMPORTANCE:1
END:VEVENT
BEGIN:VEVENT
CLASS:PUBLIC
CREATED:20260126T062415Z
DESCRIPTION:Alle
DTEND;TZID=Europe/Berlin:20260924T210000
DTSTAMP:20260126T062400Z
DTSTART;TZID=Europe/Berlin:20260924T160000
LAST-MODIFIED:20260126T062416Z
LOCATION:Aktive
PRIORITY:5
SEQUENCE:0
SUMMARY;LANGUAGE=de:Aufbau Leberknödelessen
TRANSP:OPAQUE
UID:AAAAAF2K+bdeCPBBiaF3qmqlmkcHAF17d1rP3jtPqwOcnFH89l8AB9D7uWgAAF17d1rP3jt
	PqwOcnFH89l8AB9D8PIYAAA==
X-MICROSOFT-CDO-BUSYSTATUS:BUSY
X-MICROSOFT-CDO-IMPORTANCE:1
END:VEVENT
BEGIN:VEVENT
CLASS:PUBLIC
CREATED:20260126T062415Z
DESCRIPTION:Alle
DTEND;TZID=Europe/Berlin:20260925T235900
DTSTAMP:20260126T062400Z
DTSTART;TZID=Europe/Berlin:20260925T160000
LAST-MODIFIED:20260126T062416Z
LOCATION:Aktive
PRIORITY:5
SEQUENCE:0
SUMMARY;LANGUAGE=de:Leberknödelessen
TRANSP:OPAQUE
UID:AAAAAF2K+bdeCPBBiaF3qmqlmkcHAF17d1rP3jtPqwOcnFH89l8AB9D7uWgAAF17d1rP3jt
	PqwOcnFH89l8AB9D8PIcAAA==
X-MICROSOFT-CDO-BUSYSTATUS:BUSY
X-MICROSOFT-CDO-IMPORTANCE:1
END:VEVENT
BEGIN:VEVENT
CLASS:PUBLIC
CREATED:20260126T062416Z
DESCRIPTION:Alle
DTEND;TZID=Europe/Berlin:20260926T180000
DTSTAMP:20260126T062400Z
DTSTART;TZID=Europe/Berlin:20260926T100000
LAST-MODIFIED:20260126T062416Z
LOCATION:Aktive
PRIORITY:5
SEQUENCE:0
SUMMARY;LANGUAGE=de:Aufräumen Leberknödelessen/Vorbereitung Kerweumzug
TRANSP:OPAQUE
UID:AAAAAF2K+bdeCPBBiaF3qmqlmkcHAF17d1rP3jtPqwOcnFH89l8AB9D7uWgAAF17d1rP3jt
	PqwOcnFH89l8AB9D8PIgAAA==
X-MICROSOFT-CDO-BUSYSTATUS:BUSY
X-MICROSOFT-CDO-IMPORTANCE:1
END:VEVENT
BEGIN:VEVENT
CLASS:PUBLIC
CREATED:20260126T062416Z
DESCRIPTION:Alle
DTEND;TZID=Europe/Berlin:20260927T180000
DTSTAMP:20260126T062400Z
DTSTART;TZID=Europe/Berlin:20260927T120000
LAST-MODIFIED:20260126T062417Z
LOCATION:Aktive
PRIORITY:5
SEQUENCE:0
SUMMARY;LANGUAGE=de:Haschemer Kerb/Umzug
TRANSP:OPAQUE
UID:AAAAAF2K+bdeCPBBiaF3qmqlmkcHAF17d1rP3jtPqwOcnFH89l8AB9D7uWgAAF17d1rP3jt
	PqwOcnFH89l8AB9D8PIkAAA==
X-MICROSOFT-CDO-BUSYSTATUS:BUSY
X-MICROSOFT-CDO-IMPORTANCE:1
END:VEVENT
BEGIN:VEVENT
CLASS:PUBLIC
CREATED:20260126T062416Z
DESCRIPTION:Grünewald L.
DTEND;TZID=Europe/Berlin:20261012T210000
DTSTAMP:20260126T062400Z
DTSTART;TZID=Europe/Berlin:20261012T190000
LAST-MODIFIED:20260126T062417Z
LOCATION:Aktive
PRIORITY:5
SEQUENCE:0
SUMMARY;LANGUAGE=de:FwDV10  ***
TRANSP:OPAQUE
UID:AAAAAF2K+bdeCPBBiaF3qmqlmkcHAF17d1rP3jtPqwOcnFH89l8AB9D7uWgAAF17d1rP3jt
	PqwOcnFH89l8AB9D8PIoAAA==
X-MICROSOFT-CDO-BUSYSTATUS:BUSY
X-MICROSOFT-CDO-IMPORTANCE:1
END:VEVENT
BEGIN:VEVENT
CLASS:PUBLIC
CREATED:20260126T062416Z
DESCRIPTION:Kuntz D.
DTEND;TZID=Europe/Berlin:20261026T210000
DTSTAMP:20260126T062400Z
DTSTART;TZID=Europe/Berlin:20261026T190000
LAST-MODIFIED:20260126T062417Z
LOCATION:Kuntz M.
PRIORITY:5
SEQUENCE:0
SUMMARY;LANGUAGE=de:FwDV7 Einsatzübung   ***
TRANSP:OPAQUE
UID:AAAAAF2K+bdeCPBBiaF3qmqlmkcHAF17d1rP3jtPqwOcnFH89l8AB9D7uWgAAF17d1rP3jt
	PqwOcnFH89l8AB9D8PIsAAA==
X-MICROSOFT-CDO-BUSYSTATUS:BUSY
X-MICROSOFT-CDO-IMPORTANCE:1
END:VEVENT
BEGIN:VEVENT
CLASS:PUBLIC
CREATED:20260126T062417Z
DESCRIPTION:Bayer
DTEND;TZID=Europe/Berlin:20261109T210000
DTSTAMP:20260126T062400Z
DTSTART;TZID=Europe/Berlin:20261109T190000
LAST-MODIFIED:20260126T062418Z
LOCATION:Aktive
PRIORITY:5
SEQUENCE:0
SUMMARY;LANGUAGE=de:Ausleuchten einer Einsatzstelle
TRANSP:OPAQUE
UID:AAAAAF2K+bdeCPBBiaF3qmqlmkcHAF17d1rP3jtPqwOcnFH89l8AB9D7uWgAAF17d1rP3jt
	PqwOcnFH89l8AB9D8PIwAAA==
X-MICROSOFT-CDO-BUSYSTATUS:BUSY
X-MICROSOFT-CDO-IMPORTANCE:1
END:VEVENT
BEGIN:VEVENT
CLASS:PUBLIC
CREATED:20260126T062417Z
DESCRIPTION:Bayer/Kuntz D.
DTEND;TZID=Europe/Berlin:20261111T220000
DTSTAMP:20260126T062400Z
DTSTART;TZID=Europe/Berlin:20261111T163000
LAST-MODIFIED:20260126T062418Z
LOCATION:Aktive
PRIORITY:5
SEQUENCE:0
SUMMARY;LANGUAGE=de:Martinsumzug
TRANSP:OPAQUE
UID:AAAAAF2K+bdeCPBBiaF3qmqlmkcHAF17d1rP3jtPqwOcnFH89l8AB9D7uWgAAF17d1rP3jt
	PqwOcnFH89l8AB9D8PI0AAA==
X-MICROSOFT-CDO-BUSYSTATUS:BUSY
X-MICROSOFT-CDO-IMPORTANCE:1
END:VEVENT
BEGIN:VEVENT
CLASS:PUBLIC
CREATED:20260126T062417Z
DESCRIPTION:Fachkraft
DTEND;TZID=Europe/Berlin:20261123T210000
DTSTAMP:20260126T062400Z
DTSTART;TZID=Europe/Berlin:20261123T190000
LAST-MODIFIED:20260126T062418Z
LOCATION:Aktive
PRIORITY:5
SEQUENCE:0
SUMMARY;LANGUAGE=de:AED-Einweisung
TRANSP:OPAQUE
UID:AAAAAF2K+bdeCPBBiaF3qmqlmkcHAF17d1rP3jtPqwOcnFH89l8AB9D7uWgAAF17d1rP3jt
	PqwOcnFH89l8AB9D8PI4AAA==
X-MICROSOFT-CDO-BUSYSTATUS:BUSY
X-MICROSOFT-CDO-IMPORTANCE:1
END:VEVENT
BEGIN:VEVENT
CLASS:PUBLIC
CREATED:20260126T062417Z
DESCRIPTION:Alle
DTEND;TZID=Europe/Berlin:20261130T210000
DTSTAMP:20260126T062400Z
DTSTART;TZID=Europe/Berlin:20261130T160000
LAST-MODIFIED:20260126T062419Z
LOCATION:Aktive
PRIORITY:5
SEQUENCE:0
SUMMARY;LANGUAGE=de:Vorbereitung Glühweinabend
TRANSP:OPAQUE
UID:AAAAAF2K+bdeCPBBiaF3qmqlmkcHAF17d1rP3jtPqwOcnFH89l8AB9D7uWgAAF17d1rP3jt
	PqwOcnFH89l8AB9D8PI8AAA==
X-MICROSOFT-CDO-BUSYSTATUS:BUSY
X-MICROSOFT-CDO-IMPORTANCE:1
END:VEVENT
BEGIN:VEVENT
CLASS:PUBLIC
CREATED:20260126T062418Z
DESCRIPTION:Alle
DTEND;TZID=Europe/Berlin:20261202T230000
DTSTAMP:20260126T062400Z
DTSTART;TZID=Europe/Berlin:20261202T160000
LAST-MODIFIED:20260126T062419Z
LOCATION:Aktive
PRIORITY:5
SEQUENCE:0
SUMMARY;LANGUAGE=de:Glühweinabend
TRANSP:OPAQUE
UID:AAAAAF2K+bdeCPBBiaF3qmqlmkcHAF17d1rP3jtPqwOcnFH89l8AB9D7uWgAAF17d1rP3jt
	PqwOcnFH89l8AB9D8PJAAAA==
X-MICROSOFT-CDO-BUSYSTATUS:BUSY
X-MICROSOFT-CDO-IMPORTANCE:1
END:VEVENT
BEGIN:VEVENT
CLASS:PUBLIC
CREATED:20260126T062418Z
DESCRIPTION:Alle
DTEND;TZID=Europe/Berlin:20261203T210000
DTSTAMP:20260126T062400Z
DTSTART;TZID=Europe/Berlin:20261203T160000
LAST-MODIFIED:20260126T062419Z
LOCATION:Aktive
PRIORITY:5
SEQUENCE:0
SUMMARY;LANGUAGE=de:Aufräumen Glühweinabend
TRANSP:OPAQUE
UID:AAAAAF2K+bdeCPBBiaF3qmqlmkcHAF17d1rP3jtPqwOcnFH89l8AB9D7uWgAAF17d1rP3jt
	PqwOcnFH89l8AB9D8PJEAAA==
X-MICROSOFT-CDO-BUSYSTATUS:BUSY
X-MICROSOFT-CDO-IMPORTANCE:1
END:VEVENT
BEGIN:VEVENT
CLASS:PUBLIC
CREATED:20260126T062418Z
DESCRIPTION:Fachkraft
DTEND;TZID=Europe/Berlin:20261207T210000
DTSTAMP:20260126T062400Z
DTSTART;TZID=Europe/Berlin:20261207T190000
LAST-MODIFIED:20260126T062419Z
LOCATION:Aktive
PRIORITY:5
SEQUENCE:0
SUMMARY;LANGUAGE=de:Erste Hilfe
TRANSP:OPAQUE
UID:AAAAAF2K+bdeCPBBiaF3qmqlmkcHAF17d1rP3jtPqwOcnFH89l8AB9D7uWgAAF17d1rP3jt
	PqwOcnFH89l8AB9D8PJIAAA==
X-MICROSOFT-CDO-BUSYSTATUS:BUSY
X-MICROSOFT-CDO-IMPORTANCE:1
END:VEVENT
BEGIN:VEVENT
CLASS:PUBLIC
CREATED:20260126T062418Z
DESCRIPTION:Alle
DTEND;TZID=Europe/Berlin:20261219T235900
DTSTAMP:20260126T062400Z
DTSTART;TZID=Europe/Berlin:20261219T190000
LAST-MODIFIED:20260126T062419Z
LOCATION:Aktive
PRIORITY:5
SEQUENCE:0
SUMMARY;LANGUAGE=de:Jahresabschluß
TRANSP:OPAQUE
UID:AAAAAF2K+bdeCPBBiaF3qmqlmkcHAF17d1rP3jtPqwOcnFH89l8AB9D7uWgAAF17d1rP3jt
	PqwOcnFH89l8AB9D8PJMAAA==
X-MICROSOFT-CDO-BUSYSTATUS:BUSY
X-MICROSOFT-CDO-IMPORTANCE:1
END:VEVENT
BEGIN:VEVENT
CLASS:PUBLIC
CREATED:20260126T062418Z
DESCRIPTION:Alle
DTEND;TZID=Europe/Berlin:20261220T180000
DTSTAMP:20260126T062400Z
DTSTART;TZID=Europe/Berlin:20261220T130000
LAST-MODIFIED:20260126T062420Z
LOCATION:Aktive
PRIORITY:5
SEQUENCE:0
SUMMARY;LANGUAGE=de:Aufräumen Jahresabschluß
TRANSP:OPAQUE
UID:AAAAAF2K+bdeCPBBiaF3qmqlmkcHAF17d1rP3jtPqwOcnFH89l8AB9D7uWgAAF17d1rP3jt
	PqwOcnFH89l8AB9D8PJQAAA==
X-MICROSOFT-CDO-BUSYSTATUS:BUSY
X-MICROSOFT-CDO-IMPORTANCE:1
END:VEVENT
BEGIN:VEVENT
CLASS:PUBLIC
CREATED:20260126T062419Z
DESCRIPTION:Kuntz M.
DTEND;TZID=Europe/Berlin:20261221T210000
DTSTAMP:20260126T062400Z
DTSTART;TZID=Europe/Berlin:20261221T190000
LAST-MODIFIED:20260126T062420Z
LOCATION:Aktive
PRIORITY:5
SEQUENCE:0
SUMMARY;LANGUAGE=de:Geräte und Fahrzeugpflege
TRANSP:OPAQUE
UID:AAAAAF2K+bdeCPBBiaF3qmqlmkcHAF17d1rP3jtPqwOcnFH89l8AB9D7uWgAAF17d1rP3jt
	PqwOcnFH89l8AB9D8PJUAAA==
X-MICROSOFT-CDO-BUSYSTATUS:BUSY
X-MICROSOFT-CDO-IMPORTANCE:1
END:VEVENT
END:VCALENDAR
