BEGIN:VCALENDAR
PRODID:-//Microsoft Corporation//Outlook 16.0 MIMEDIR//EN
VERSION:2.0
METHOD:PUBLISH
X-CALSTART:20260107T170000Z
X-CALEND:20261216T183000Z
X-WR-RELCALID:{0000002E-E7E1-85B7-0F90-4D4D183B7862}
X-WR-CALNAME:Unbenannt
BEGIN:VTIMEZONE
TZID:Europe/Berlin
BEGIN:STANDARD
DTSTART:16011028T030000
RRULE:FREQ=YEARLY;BYDAY=-1SU;BYMONTH=10
TZOFFSETFROM:+0200
TZOFFSETTO:+0100
END:STANDARD
BEGIN:DAYLIGHT
DTSTART:16010325T020000
RRULE:FREQ=YEARLY;BYDAY=-1SU;BYMONTH=3
TZOFFSETFROM:+0100
TZOFFSETTO:+0200
END:DAYLIGHT
END:VTIMEZONE
BEGIN:VEVENT
CLASS:PUBLIC
CREATED:20260126T062859Z
DESCRIPTION:Team
DTEND;TZID=Europe/Berlin:20260107T193000
DTSTAMP:20260126T062800Z
DTSTART;TZID=Europe/Berlin:20260107T180000
LAST-MODIFIED:20260126T062900Z
LOCATION:Bambinifeuerwehr
PRIORITY:5
SEQUENCE:0
SUMMARY;LANGUAGE=de:Erste Hilfe Absetzen eines Notrufes
TRANSP:OPAQUE
UID:AAAAAF2K+bdeCPBBiaF3qmqlmkcHAF17d1rP3jtPqwOcnFH89l8AB9D7uWkAAF17d1rP3jt
	PqwOcnFH89l8AB9D8PmwAAA==
X-MICROSOFT-CDO-BUSYSTATUS:BUSY
X-MICROSOFT-CDO-IMPORTANCE:1
END:VEVENT
BEGIN:VEVENT
CLASS:PUBLIC
CREATED:20260126T062900Z
DESCRIPTION:Team
DTEND;TZID=Europe/Berlin:20260114T190000
DTSTAMP:20260126T062800Z
DTSTART;TZID=Europe/Berlin:20260114T180000
LAST-MODIFIED:20260126T062900Z
LOCATION:Bambinifeuerwehr
PRIORITY:5
SEQUENCE:0
SUMMARY;LANGUAGE=de:Fahrzeugkunde
TRANSP:OPAQUE
UID:AAAAAF2K+bdeCPBBiaF3qmqlmkcHAF17d1rP3jtPqwOcnFH89l8AB9D7uWkAAF17d1rP3jt
	PqwOcnFH89l8AB9D8Pm0AAA==
X-MICROSOFT-CDO-BUSYSTATUS:BUSY
X-MICROSOFT-CDO-IMPORTANCE:1
END:VEVENT
BEGIN:VEVENT
CLASS:PUBLIC
CREATED:20260126T062900Z
DESCRIPTION:Team
DTEND;TZID=Europe/Berlin:20260121T193000
DTSTAMP:20260126T062800Z
DTSTART;TZID=Europe/Berlin:20260121T180000
LAST-MODIFIED:20260126T062901Z
LOCATION:Bambinifeuerwehr
PRIORITY:5
SEQUENCE:0
SUMMARY;LANGUAGE=de:Funkübung
TRANSP:OPAQUE
UID:AAAAAF2K+bdeCPBBiaF3qmqlmkcHAF17d1rP3jtPqwOcnFH89l8AB9D7uWkAAF17d1rP3jt
	PqwOcnFH89l8AB9D8Pm4AAA==
X-MICROSOFT-CDO-BUSYSTATUS:BUSY
X-MICROSOFT-CDO-IMPORTANCE:1
END:VEVENT
BEGIN:VEVENT
CLASS:PUBLIC
CREATED:20260126T062900Z
DESCRIPTION:Team
DTEND;TZID=Europe/Berlin:20260128T193000
DTSTAMP:20260126T062800Z
DTSTART;TZID=Europe/Berlin:20260128T180000
LAST-MODIFIED:20260126T062902Z
LOCATION:Bambinifeuerwehr
PRIORITY:5
SEQUENCE:0
SUMMARY;LANGUAGE=de:Knoten und Stiche
TRANSP:OPAQUE
UID:AAAAAF2K+bdeCPBBiaF3qmqlmkcHAF17d1rP3jtPqwOcnFH89l8AB9D7uWkAAF17d1rP3jt
	PqwOcnFH89l8AB9D8Pm8AAA==
X-MICROSOFT-CDO-BUSYSTATUS:BUSY
X-MICROSOFT-CDO-IMPORTANCE:1
END:VEVENT
BEGIN:VEVENT
CLASS:PUBLIC
CREATED:20260126T062900Z
DESCRIPTION:Team
DTEND;TZID=Europe/Berlin:20260204T193000
DTSTAMP:20260126T062800Z
DTSTART;TZID=Europe/Berlin:20260204T180000
LAST-MODIFIED:20260126T062902Z
LOCATION:Bambinifeuerwehr
PRIORITY:5
SEQUENCE:0
SUMMARY;LANGUAGE=de:Hydranten finden und stellen
TRANSP:OPAQUE
UID:AAAAAF2K+bdeCPBBiaF3qmqlmkcHAF17d1rP3jtPqwOcnFH89l8AB9D7uWkAAF17d1rP3jt
	PqwOcnFH89l8AB9D8PnAAAA==
X-MICROSOFT-CDO-BUSYSTATUS:BUSY
X-MICROSOFT-CDO-IMPORTANCE:1
END:VEVENT
BEGIN:VEVENT
CLASS:PUBLIC
CREATED:20260126T062901Z
DESCRIPTION:Team
DTEND;TZID=Europe/Berlin:20260211T190000
DTSTAMP:20260126T062800Z
DTSTART;TZID=Europe/Berlin:20260211T180000
LAST-MODIFIED:20260126T062902Z
LOCATION:Bambinifeuerwehr
PRIORITY:5
SEQUENCE:0
SUMMARY;LANGUAGE=de:Faschingsfeier
TRANSP:OPAQUE
UID:AAAAAF2K+bdeCPBBiaF3qmqlmkcHAF17d1rP3jtPqwOcnFH89l8AB9D7uWkAAF17d1rP3jt
	PqwOcnFH89l8AB9D8PnEAAA==
X-MICROSOFT-CDO-BUSYSTATUS:BUSY
X-MICROSOFT-CDO-IMPORTANCE:1
END:VEVENT
BEGIN:VEVENT
CLASS:PUBLIC
CREATED:20260126T062901Z
DESCRIPTION:Team
DTEND;TZID=Europe/Berlin:20260218T193000
DTSTAMP:20260126T062800Z
DTSTART;TZID=Europe/Berlin:20260218T180000
LAST-MODIFIED:20260126T062903Z
LOCATION:Bambinifeuerwehr
PRIORITY:5
SEQUENCE:0
SUMMARY;LANGUAGE=de:Fahrzeugkunde
TRANSP:OPAQUE
UID:AAAAAF2K+bdeCPBBiaF3qmqlmkcHAF17d1rP3jtPqwOcnFH89l8AB9D7uWkAAF17d1rP3jt
	PqwOcnFH89l8AB9D8PnIAAA==
X-MICROSOFT-CDO-BUSYSTATUS:BUSY
X-MICROSOFT-CDO-IMPORTANCE:1
END:VEVENT
BEGIN:VEVENT
CLASS:PUBLIC
CREATED:20260126T062901Z
DESCRIPTION:Team
DTEND;TZID=Europe/Berlin:20260224T193000
DTSTAMP:20260126T062800Z
DTSTART;TZID=Europe/Berlin:20260224T180000
LAST-MODIFIED:20260126T062903Z
LOCATION:Bambinifeuerwehr
PRIORITY:5
SEQUENCE:0
SUMMARY;LANGUAGE=de:FwDV3 Einheiten im Löschangriff
TRANSP:OPAQUE
UID:AAAAAF2K+bdeCPBBiaF3qmqlmkcHAF17d1rP3jtPqwOcnFH89l8AB9D7uWkAAF17d1rP3jt
	PqwOcnFH89l8AB9D8PnMAAA==
X-MICROSOFT-CDO-BUSYSTATUS:BUSY
X-MICROSOFT-CDO-IMPORTANCE:1
END:VEVENT
BEGIN:VEVENT
CLASS:PUBLIC
CREATED:20260126T062901Z
DESCRIPTION:Team
DTEND;TZID=Europe/Berlin:20260304T193000
DTSTAMP:20260126T062800Z
DTSTART;TZID=Europe/Berlin:20260304T180000
LAST-MODIFIED:20260126T062903Z
LOCATION:Bambinifeuerwehr
PRIORITY:5
SEQUENCE:0
SUMMARY;LANGUAGE=de:Versuche
TRANSP:OPAQUE
UID:AAAAAF2K+bdeCPBBiaF3qmqlmkcHAF17d1rP3jtPqwOcnFH89l8AB9D7uWkAAF17d1rP3jt
	PqwOcnFH89l8AB9D8PnQAAA==
X-MICROSOFT-CDO-BUSYSTATUS:BUSY
X-MICROSOFT-CDO-IMPORTANCE:1
END:VEVENT
BEGIN:VEVENT
CLASS:PUBLIC
CREATED:20260126T062902Z
DESCRIPTION:Team
DTEND;TZID=Europe/Berlin:20260311T190000
DTSTAMP:20260126T062800Z
DTSTART;TZID=Europe/Berlin:20260311T180000
LAST-MODIFIED:20260126T062903Z
LOCATION:Bambinifeuerwehr
PRIORITY:5
SEQUENCE:0
SUMMARY;LANGUAGE=de:Mister X
TRANSP:OPAQUE
UID:AAAAAF2K+bdeCPBBiaF3qmqlmkcHAF17d1rP3jtPqwOcnFH89l8AB9D7uWkAAF17d1rP3jt
	PqwOcnFH89l8AB9D8PnUAAA==
X-MICROSOFT-CDO-BUSYSTATUS:BUSY
X-MICROSOFT-CDO-IMPORTANCE:1
END:VEVENT
BEGIN:VEVENT
CLASS:PUBLIC
CREATED:20260126T062902Z
DESCRIPTION:Team
DTEND;TZID=Europe/Berlin:20260318T193000
DTSTAMP:20260126T062800Z
DTSTART;TZID=Europe/Berlin:20260318T180000
LAST-MODIFIED:20260126T062903Z
LOCATION:Bambinifeuerwehr
PRIORITY:5
SEQUENCE:0
SUMMARY;LANGUAGE=de:Erste Hilfe Absetzen eines Notrufes
TRANSP:OPAQUE
UID:AAAAAF2K+bdeCPBBiaF3qmqlmkcHAF17d1rP3jtPqwOcnFH89l8AB9D7uWkAAF17d1rP3jt
	PqwOcnFH89l8AB9D8PnYAAA==
X-MICROSOFT-CDO-BUSYSTATUS:BUSY
X-MICROSOFT-CDO-IMPORTANCE:1
END:VEVENT
BEGIN:VEVENT
CLASS:PUBLIC
CREATED:20260126T062903Z
DESCRIPTION:Team
DTEND;TZID=Europe/Berlin:20260325T193000
DTSTAMP:20260126T062800Z
DTSTART;TZID=Europe/Berlin:20260325T180000
LAST-MODIFIED:20260126T062904Z
LOCATION:Bambinifeuerwehr
PRIORITY:5
SEQUENCE:0
SUMMARY;LANGUAGE=de:Backen für Ostern
TRANSP:OPAQUE
UID:AAAAAF2K+bdeCPBBiaF3qmqlmkcHAF17d1rP3jtPqwOcnFH89l8AB9D7uWkAAF17d1rP3jt
	PqwOcnFH89l8AB9D8PncAAA==
X-MICROSOFT-CDO-BUSYSTATUS:BUSY
X-MICROSOFT-CDO-IMPORTANCE:1
END:VEVENT
BEGIN:VEVENT
CLASS:PUBLIC
CREATED:20260126T062903Z
DESCRIPTION:Team
DTEND;TZID=Europe/Berlin:20260401T193000
DTSTAMP:20260126T062800Z
DTSTART;TZID=Europe/Berlin:20260401T180000
LAST-MODIFIED:20260126T062904Z
LOCATION:Bambinifeuerwehr
PRIORITY:5
SEQUENCE:0
SUMMARY;LANGUAGE=de:Osterfeier
TRANSP:OPAQUE
UID:AAAAAF2K+bdeCPBBiaF3qmqlmkcHAF17d1rP3jtPqwOcnFH89l8AB9D7uWkAAF17d1rP3jt
	PqwOcnFH89l8AB9D8PngAAA==
X-MICROSOFT-CDO-BUSYSTATUS:BUSY
X-MICROSOFT-CDO-IMPORTANCE:1
END:VEVENT
BEGIN:VEVENT
CLASS:PUBLIC
CREATED:20260126T062903Z
DESCRIPTION:Team
DTEND;TZID=Europe/Berlin:20260408T190000
DTSTAMP:20260126T062800Z
DTSTART;TZID=Europe/Berlin:20260408T180000
LAST-MODIFIED:20260126T062904Z
LOCATION:Bambinifeuerwehr
PRIORITY:5
SEQUENCE:0
SUMMARY;LANGUAGE=de:Was mach ich wenn es brennt?
TRANSP:OPAQUE
UID:AAAAAF2K+bdeCPBBiaF3qmqlmkcHAF17d1rP3jtPqwOcnFH89l8AB9D7uWkAAF17d1rP3jt
	PqwOcnFH89l8AB9D8PnkAAA==
X-MICROSOFT-CDO-BUSYSTATUS:BUSY
X-MICROSOFT-CDO-IMPORTANCE:1
END:VEVENT
BEGIN:VEVENT
CLASS:PUBLIC
CREATED:20260126T062903Z
DESCRIPTION:Team
DTEND;TZID=Europe/Berlin:20260415T193000
DTSTAMP:20260126T062800Z
DTSTART;TZID=Europe/Berlin:20260415T180000
LAST-MODIFIED:20260126T062905Z
LOCATION:Bambinifeuerwehr
PRIORITY:5
SEQUENCE:0
SUMMARY;LANGUAGE=de:Fahrzeugkunde
TRANSP:OPAQUE
UID:AAAAAF2K+bdeCPBBiaF3qmqlmkcHAF17d1rP3jtPqwOcnFH89l8AB9D7uWkAAF17d1rP3jt
	PqwOcnFH89l8AB9D8PnoAAA==
X-MICROSOFT-CDO-BUSYSTATUS:BUSY
X-MICROSOFT-CDO-IMPORTANCE:1
END:VEVENT
BEGIN:VEVENT
CLASS:PUBLIC
CREATED:20260126T062904Z
DESCRIPTION:Team
DTEND;TZID=Europe/Berlin:20260422T193000
DTSTAMP:20260126T062800Z
DTSTART;TZID=Europe/Berlin:20260422T180000
LAST-MODIFIED:20260126T062905Z
LOCATION:Bambinifeuerwehr
PRIORITY:5
SEQUENCE:0
SUMMARY;LANGUAGE=de:Hindernislauf
TRANSP:OPAQUE
UID:AAAAAF2K+bdeCPBBiaF3qmqlmkcHAF17d1rP3jtPqwOcnFH89l8AB9D7uWkAAF17d1rP3jt
	PqwOcnFH89l8AB9D8PnsAAA==
X-MICROSOFT-CDO-BUSYSTATUS:BUSY
X-MICROSOFT-CDO-IMPORTANCE:1
END:VEVENT
BEGIN:VEVENT
CLASS:PUBLIC
CREATED:20260126T062904Z
DESCRIPTION:Team
DTEND;TZID=Europe/Berlin:20260429T193000
DTSTAMP:20260126T062800Z
DTSTART;TZID=Europe/Berlin:20260429T180000
LAST-MODIFIED:20260126T062905Z
LOCATION:Bambinifeuerwehr
PRIORITY:5
SEQUENCE:0
SUMMARY;LANGUAGE=de:Basteln für Muttertag und Vatertag
TRANSP:OPAQUE
UID:AAAAAF2K+bdeCPBBiaF3qmqlmkcHAF17d1rP3jtPqwOcnFH89l8AB9D7uWkAAF17d1rP3jt
	PqwOcnFH89l8AB9D8PnwAAA==
X-MICROSOFT-CDO-BUSYSTATUS:BUSY
X-MICROSOFT-CDO-IMPORTANCE:1
END:VEVENT
BEGIN:VEVENT
CLASS:PUBLIC
CREATED:20260126T062904Z
DESCRIPTION:Team
DTEND;TZID=Europe/Berlin:20260506T193000
DTSTAMP:20260126T062800Z
DTSTART;TZID=Europe/Berlin:20260506T180000
LAST-MODIFIED:20260126T062905Z
LOCATION:Bambinifeuerwehr
PRIORITY:5
SEQUENCE:0
SUMMARY;LANGUAGE=de:Basteln für Muttertag und Vatertag
TRANSP:OPAQUE
UID:AAAAAF2K+bdeCPBBiaF3qmqlmkcHAF17d1rP3jtPqwOcnFH89l8AB9D7uWkAAF17d1rP3jt
	PqwOcnFH89l8AB9D8Pn0AAA==
X-MICROSOFT-CDO-BUSYSTATUS:BUSY
X-MICROSOFT-CDO-IMPORTANCE:1
END:VEVENT
BEGIN:VEVENT
CLASS:PUBLIC
CREATED:20260126T062904Z
DESCRIPTION:Team
DTEND;TZID=Europe/Berlin:20260513T190000
DTSTAMP:20260126T062800Z
DTSTART;TZID=Europe/Berlin:20260513T180000
LAST-MODIFIED:20260126T062906Z
LOCATION:Bambinifeuerwehr
PRIORITY:5
SEQUENCE:0
SUMMARY;LANGUAGE=de:Spiele
TRANSP:OPAQUE
UID:AAAAAF2K+bdeCPBBiaF3qmqlmkcHAF17d1rP3jtPqwOcnFH89l8AB9D7uWkAAF17d1rP3jt
	PqwOcnFH89l8AB9D8Pn4AAA==
X-MICROSOFT-CDO-BUSYSTATUS:BUSY
X-MICROSOFT-CDO-IMPORTANCE:1
END:VEVENT
BEGIN:VEVENT
CLASS:PUBLIC
CREATED:20260126T062905Z
DESCRIPTION:Team
DTEND;TZID=Europe/Berlin:20260520T193000
DTSTAMP:20260126T062800Z
DTSTART;TZID=Europe/Berlin:20260520T180000
LAST-MODIFIED:20260126T062906Z
LOCATION:Bambinifeuerwehr
PRIORITY:5
SEQUENCE:0
SUMMARY;LANGUAGE=de:Besichtigung Gerätehaus Göllheim
TRANSP:OPAQUE
UID:AAAAAF2K+bdeCPBBiaF3qmqlmkcHAF17d1rP3jtPqwOcnFH89l8AB9D7uWkAAF17d1rP3jt
	PqwOcnFH89l8AB9D8Pn8AAA==
X-MICROSOFT-CDO-BUSYSTATUS:BUSY
X-MICROSOFT-CDO-IMPORTANCE:1
END:VEVENT
BEGIN:VEVENT
CLASS:PUBLIC
CREATED:20260126T062905Z
DESCRIPTION:Team
DTEND;TZID=Europe/Berlin:20260527T193000
DTSTAMP:20260126T062800Z
DTSTART;TZID=Europe/Berlin:20260527T180000
LAST-MODIFIED:20260126T062906Z
LOCATION:Bambinifeuerwehr
PRIORITY:5
SEQUENCE:0
SUMMARY;LANGUAGE=de:FwDV3 Technische Hilfe
TRANSP:OPAQUE
UID:AAAAAF2K+bdeCPBBiaF3qmqlmkcHAF17d1rP3jtPqwOcnFH89l8AB9D7uWkAAF17d1rP3jt
	PqwOcnFH89l8AB9D8PoAAAA==
X-MICROSOFT-CDO-BUSYSTATUS:BUSY
X-MICROSOFT-CDO-IMPORTANCE:1
END:VEVENT
BEGIN:VEVENT
CLASS:PUBLIC
CREATED:20260126T062905Z
DESCRIPTION:Team
DTEND;TZID=Europe/Berlin:20260603T193000
DTSTAMP:20260126T062800Z
DTSTART;TZID=Europe/Berlin:20260603T180000
LAST-MODIFIED:20260126T062906Z
LOCATION:Bambinifeuerwehr
PRIORITY:5
SEQUENCE:0
SUMMARY;LANGUAGE=de:Spielplatz
TRANSP:OPAQUE
UID:AAAAAF2K+bdeCPBBiaF3qmqlmkcHAF17d1rP3jtPqwOcnFH89l8AB9D7uWkAAF17d1rP3jt
	PqwOcnFH89l8AB9D8PoEAAA==
X-MICROSOFT-CDO-BUSYSTATUS:BUSY
X-MICROSOFT-CDO-IMPORTANCE:1
END:VEVENT
BEGIN:VEVENT
CLASS:PUBLIC
CREATED:20260126T062905Z
DESCRIPTION:Team
DTEND;TZID=Europe/Berlin:20260610T190000
DTSTAMP:20260126T062800Z
DTSTART;TZID=Europe/Berlin:20260610T180000
LAST-MODIFIED:20260126T062907Z
LOCATION:Bambinifeuerwehr
PRIORITY:5
SEQUENCE:0
SUMMARY;LANGUAGE=de:Schlauchkegeln
TRANSP:OPAQUE
UID:AAAAAF2K+bdeCPBBiaF3qmqlmkcHAF17d1rP3jtPqwOcnFH89l8AB9D7uWkAAF17d1rP3jt
	PqwOcnFH89l8AB9D8PoIAAA==
X-MICROSOFT-CDO-BUSYSTATUS:BUSY
X-MICROSOFT-CDO-IMPORTANCE:1
END:VEVENT
BEGIN:VEVENT
CLASS:PUBLIC
CREATED:20260126T062906Z
DESCRIPTION:Team
DTEND;TZID=Europe/Berlin:20260617T193000
DTSTAMP:20260126T062800Z
DTSTART;TZID=Europe/Berlin:20260617T180000
LAST-MODIFIED:20260126T062907Z
LOCATION:Bambinifeuerwehr
PRIORITY:5
SEQUENCE:0
SUMMARY;LANGUAGE=de:FwDV3 Einheiten im Löschangriff
TRANSP:OPAQUE
UID:AAAAAF2K+bdeCPBBiaF3qmqlmkcHAF17d1rP3jtPqwOcnFH89l8AB9D7uWkAAF17d1rP3jt
	PqwOcnFH89l8AB9D8PoMAAA==
X-MICROSOFT-CDO-BUSYSTATUS:BUSY
X-MICROSOFT-CDO-IMPORTANCE:1
END:VEVENT
BEGIN:VEVENT
CLASS:PUBLIC
CREATED:20260126T062906Z
DESCRIPTION:Team
DTEND;TZID=Europe/Berlin:20260624T193000
DTSTAMP:20260126T062800Z
DTSTART;TZID=Europe/Berlin:20260624T180000
LAST-MODIFIED:20260126T062907Z
LOCATION:Bambinifeuerwehr
PRIORITY:5
SEQUENCE:0
SUMMARY;LANGUAGE=de:Funkübung
TRANSP:OPAQUE
UID:AAAAAF2K+bdeCPBBiaF3qmqlmkcHAF17d1rP3jtPqwOcnFH89l8AB9D7uWkAAF17d1rP3jt
	PqwOcnFH89l8AB9D8PoQAAA==
X-MICROSOFT-CDO-BUSYSTATUS:BUSY
X-MICROSOFT-CDO-IMPORTANCE:1
END:VEVENT
BEGIN:VEVENT
CLASS:PUBLIC
CREATED:20260126T062906Z
DESCRIPTION:Team
DTEND;TZID=Europe/Berlin:20260701T193000
DTSTAMP:20260126T062800Z
DTSTART;TZID=Europe/Berlin:20260701T180000
LAST-MODIFIED:20260126T062907Z
LOCATION:Bambinifeuerwehr
PRIORITY:5
SEQUENCE:0
SUMMARY;LANGUAGE=de:Experimente
TRANSP:OPAQUE
UID:AAAAAF2K+bdeCPBBiaF3qmqlmkcHAF17d1rP3jtPqwOcnFH89l8AB9D7uWkAAF17d1rP3jt
	PqwOcnFH89l8AB9D8PoUAAA==
X-MICROSOFT-CDO-BUSYSTATUS:BUSY
X-MICROSOFT-CDO-IMPORTANCE:1
END:VEVENT
BEGIN:VEVENT
CLASS:PUBLIC
CREATED:20260126T062906Z
DESCRIPTION:Team
DTEND;TZID=Europe/Berlin:20260708T190000
DTSTAMP:20260126T062800Z
DTSTART;TZID=Europe/Berlin:20260708T180000
LAST-MODIFIED:20260126T062908Z
LOCATION:Bambinifeuerwehr
PRIORITY:5
SEQUENCE:0
SUMMARY;LANGUAGE=de:Erste Hilfe Absetzen eines Notrufes
TRANSP:OPAQUE
UID:AAAAAF2K+bdeCPBBiaF3qmqlmkcHAF17d1rP3jtPqwOcnFH89l8AB9D7uWkAAF17d1rP3jt
	PqwOcnFH89l8AB9D8PoYAAA==
X-MICROSOFT-CDO-BUSYSTATUS:BUSY
X-MICROSOFT-CDO-IMPORTANCE:1
END:VEVENT
BEGIN:VEVENT
CLASS:PUBLIC
CREATED:20260126T062907Z
DESCRIPTION:Team
DTEND;TZID=Europe/Berlin:20260715T193000
DTSTAMP:20260126T062800Z
DTSTART;TZID=Europe/Berlin:20260715T180000
LAST-MODIFIED:20260126T062908Z
LOCATION:Bambinifeuerwehr
PRIORITY:5
SEQUENCE:0
SUMMARY;LANGUAGE=de:Knoten und Stiche
TRANSP:OPAQUE
UID:AAAAAF2K+bdeCPBBiaF3qmqlmkcHAF17d1rP3jtPqwOcnFH89l8AB9D7uWkAAF17d1rP3jt
	PqwOcnFH89l8AB9D8PocAAA==
X-MICROSOFT-CDO-BUSYSTATUS:BUSY
X-MICROSOFT-CDO-IMPORTANCE:1
END:VEVENT
BEGIN:VEVENT
CLASS:PUBLIC
CREATED:20260126T062907Z
DESCRIPTION:Team
DTEND;TZID=Europe/Berlin:20260722T193000
DTSTAMP:20260126T062800Z
DTSTART;TZID=Europe/Berlin:20260722T180000
LAST-MODIFIED:20260126T062908Z
LOCATION:Bambinifeuerwehr
PRIORITY:5
SEQUENCE:0
SUMMARY;LANGUAGE=de:Nassübung
TRANSP:OPAQUE
UID:AAAAAF2K+bdeCPBBiaF3qmqlmkcHAF17d1rP3jtPqwOcnFH89l8AB9D7uWkAAF17d1rP3jt
	PqwOcnFH89l8AB9D8PogAAA==
X-MICROSOFT-CDO-BUSYSTATUS:BUSY
X-MICROSOFT-CDO-IMPORTANCE:1
END:VEVENT
BEGIN:VEVENT
CLASS:PUBLIC
CREATED:20260126T062907Z
DESCRIPTION:Team
DTEND;TZID=Europe/Berlin:20260729T193000
DTSTAMP:20260126T062800Z
DTSTART;TZID=Europe/Berlin:20260729T180000
LAST-MODIFIED:20260126T062908Z
LOCATION:Bambinifeuerwehr
PRIORITY:5
SEQUENCE:0
SUMMARY;LANGUAGE=de:Mister X
TRANSP:OPAQUE
UID:AAAAAF2K+bdeCPBBiaF3qmqlmkcHAF17d1rP3jtPqwOcnFH89l8AB9D7uWkAAF17d1rP3jt
	PqwOcnFH89l8AB9D8PokAAA==
X-MICROSOFT-CDO-BUSYSTATUS:BUSY
X-MICROSOFT-CDO-IMPORTANCE:1
END:VEVENT
BEGIN:VEVENT
CLASS:PUBLIC
CREATED:20260126T062907Z
DESCRIPTION:Team
DTEND;TZID=Europe/Berlin:20260805T193000
DTSTAMP:20260126T062800Z
DTSTART;TZID=Europe/Berlin:20260805T180000
LAST-MODIFIED:20260126T062909Z
LOCATION:Bambinifeuerwehr
PRIORITY:5
SEQUENCE:0
SUMMARY;LANGUAGE=de:Spiele
TRANSP:OPAQUE
UID:AAAAAF2K+bdeCPBBiaF3qmqlmkcHAF17d1rP3jtPqwOcnFH89l8AB9D7uWkAAF17d1rP3jt
	PqwOcnFH89l8AB9D8PooAAA==
X-MICROSOFT-CDO-BUSYSTATUS:BUSY
X-MICROSOFT-CDO-IMPORTANCE:1
END:VEVENT
BEGIN:VEVENT
CLASS:PUBLIC
CREATED:20260126T062908Z
DESCRIPTION:Team
DTEND;TZID=Europe/Berlin:20260812T190000
DTSTAMP:20260126T062800Z
DTSTART;TZID=Europe/Berlin:20260812T180000
LAST-MODIFIED:20260126T062909Z
LOCATION:Bambinifeuerwehr
PRIORITY:5
SEQUENCE:0
SUMMARY;LANGUAGE=de:Hindernislauf
TRANSP:OPAQUE
UID:AAAAAF2K+bdeCPBBiaF3qmqlmkcHAF17d1rP3jtPqwOcnFH89l8AB9D7uWkAAF17d1rP3jt
	PqwOcnFH89l8AB9D8PosAAA==
X-MICROSOFT-CDO-BUSYSTATUS:BUSY
X-MICROSOFT-CDO-IMPORTANCE:1
END:VEVENT
BEGIN:VEVENT
CLASS:PUBLIC
CREATED:20260126T062908Z
DESCRIPTION:Team
DTEND;TZID=Europe/Berlin:20260819T193000
DTSTAMP:20260126T062800Z
DTSTART;TZID=Europe/Berlin:20260819T180000
LAST-MODIFIED:20260126T062909Z
LOCATION:Bambinifeuerwehr
PRIORITY:5
SEQUENCE:0
SUMMARY;LANGUAGE=de:Spielplatz
TRANSP:OPAQUE
UID:AAAAAF2K+bdeCPBBiaF3qmqlmkcHAF17d1rP3jtPqwOcnFH89l8AB9D7uWkAAF17d1rP3jt
	PqwOcnFH89l8AB9D8PowAAA==
X-MICROSOFT-CDO-BUSYSTATUS:BUSY
X-MICROSOFT-CDO-IMPORTANCE:1
END:VEVENT
BEGIN:VEVENT
CLASS:PUBLIC
CREATED:20260126T062908Z
DESCRIPTION:Team
DTEND;TZID=Europe/Berlin:20260826T193000
DTSTAMP:20260126T062800Z
DTSTART;TZID=Europe/Berlin:20260826T180000
LAST-MODIFIED:20260126T062909Z
LOCATION:Bambinifeuerwehr
PRIORITY:5
SEQUENCE:0
SUMMARY;LANGUAGE=de:Fahrzeugkunde
TRANSP:OPAQUE
UID:AAAAAF2K+bdeCPBBiaF3qmqlmkcHAF17d1rP3jtPqwOcnFH89l8AB9D7uWkAAF17d1rP3jt
	PqwOcnFH89l8AB9D8Po0AAA==
X-MICROSOFT-CDO-BUSYSTATUS:BUSY
X-MICROSOFT-CDO-IMPORTANCE:1
END:VEVENT
BEGIN:VEVENT
CLASS:PUBLIC
CREATED:20260126T062908Z
DESCRIPTION:Team
DTEND;TZID=Europe/Berlin:20260902T193000
DTSTAMP:20260126T062800Z
DTSTART;TZID=Europe/Berlin:20260902T180000
LAST-MODIFIED:20260126T062910Z
LOCATION:Bambinifeuerwehr
PRIORITY:5
SEQUENCE:0
SUMMARY;LANGUAGE=de:Wandern
TRANSP:OPAQUE
UID:AAAAAF2K+bdeCPBBiaF3qmqlmkcHAF17d1rP3jtPqwOcnFH89l8AB9D7uWkAAF17d1rP3jt
	PqwOcnFH89l8AB9D8Po4AAA==
X-MICROSOFT-CDO-BUSYSTATUS:BUSY
X-MICROSOFT-CDO-IMPORTANCE:1
END:VEVENT
BEGIN:VEVENT
CLASS:PUBLIC
CREATED:20260126T062909Z
DESCRIPTION:Team
DTEND;TZID=Europe/Berlin:20260909T190000
DTSTAMP:20260126T062800Z
DTSTART;TZID=Europe/Berlin:20260909T180000
LAST-MODIFIED:20260126T062910Z
LOCATION:Bambinifeuerwehr
PRIORITY:5
SEQUENCE:0
SUMMARY;LANGUAGE=de:Nassübung
TRANSP:OPAQUE
UID:AAAAAF2K+bdeCPBBiaF3qmqlmkcHAF17d1rP3jtPqwOcnFH89l8AB9D7uWkAAF17d1rP3jt
	PqwOcnFH89l8AB9D8Po8AAA==
X-MICROSOFT-CDO-BUSYSTATUS:BUSY
X-MICROSOFT-CDO-IMPORTANCE:1
END:VEVENT
BEGIN:VEVENT
CLASS:PUBLIC
CREATED:20260126T062909Z
DESCRIPTION:Team
DTEND;TZID=Europe/Berlin:20260916T193000
DTSTAMP:20260126T062800Z
DTSTART;TZID=Europe/Berlin:20260916T180000
LAST-MODIFIED:20260126T062910Z
LOCATION:Bambinifeuerwehr
PRIORITY:5
SEQUENCE:0
SUMMARY;LANGUAGE=de:Bauen für Kerweumzug
TRANSP:OPAQUE
UID:AAAAAF2K+bdeCPBBiaF3qmqlmkcHAF17d1rP3jtPqwOcnFH89l8AB9D7uWkAAF17d1rP3jt
	PqwOcnFH89l8AB9D8PpAAAA==
X-MICROSOFT-CDO-BUSYSTATUS:BUSY
X-MICROSOFT-CDO-IMPORTANCE:1
END:VEVENT
BEGIN:VEVENT
CLASS:PUBLIC
CREATED:20260126T062909Z
DESCRIPTION:Team
DTEND;TZID=Europe/Berlin:20260922T193000
DTSTAMP:20260126T062800Z
DTSTART;TZID=Europe/Berlin:20260922T180000
LAST-MODIFIED:20260126T062910Z
LOCATION:Bambinifeuerwehr
PRIORITY:5
SEQUENCE:0
SUMMARY;LANGUAGE=de:Bauen für Kerweumzug
TRANSP:OPAQUE
UID:AAAAAF2K+bdeCPBBiaF3qmqlmkcHAF17d1rP3jtPqwOcnFH89l8AB9D7uWkAAF17d1rP3jt
	PqwOcnFH89l8AB9D8PpEAAA==
X-MICROSOFT-CDO-BUSYSTATUS:BUSY
X-MICROSOFT-CDO-IMPORTANCE:1
END:VEVENT
BEGIN:VEVENT
CLASS:PUBLIC
CREATED:20260126T062909Z
DESCRIPTION:Team
DTEND;TZID=Europe/Berlin:20260927T170000
DTSTAMP:20260126T062800Z
DTSTART;TZID=Europe/Berlin:20260927T130000
LAST-MODIFIED:20260126T062911Z
LOCATION:Bambinifeuerwehr
PRIORITY:5
SEQUENCE:0
SUMMARY;LANGUAGE=de:Kerweumzug
TRANSP:OPAQUE
UID:AAAAAF2K+bdeCPBBiaF3qmqlmkcHAF17d1rP3jtPqwOcnFH89l8AB9D7uWkAAF17d1rP3jt
	PqwOcnFH89l8AB9D8PpIAAA==
X-MICROSOFT-CDO-BUSYSTATUS:BUSY
X-MICROSOFT-CDO-IMPORTANCE:1
END:VEVENT
BEGIN:VEVENT
CLASS:PUBLIC
CREATED:20260126T062910Z
DESCRIPTION:Team
DTEND;TZID=Europe/Berlin:20260930T193000
DTSTAMP:20260126T062800Z
DTSTART;TZID=Europe/Berlin:20260930T180000
LAST-MODIFIED:20260126T062911Z
LOCATION:Bambinifeuerwehr
PRIORITY:5
SEQUENCE:0
SUMMARY;LANGUAGE=de:Teambildende Spiele
TRANSP:OPAQUE
UID:AAAAAF2K+bdeCPBBiaF3qmqlmkcHAF17d1rP3jtPqwOcnFH89l8AB9D7uWkAAF17d1rP3jt
	PqwOcnFH89l8AB9D8PpMAAA==
X-MICROSOFT-CDO-BUSYSTATUS:BUSY
X-MICROSOFT-CDO-IMPORTANCE:1
END:VEVENT
BEGIN:VEVENT
CLASS:PUBLIC
CREATED:20260126T062910Z
DESCRIPTION:Team
DTEND;TZID=Europe/Berlin:20261007T193000
DTSTAMP:20260126T062800Z
DTSTART;TZID=Europe/Berlin:20261007T180000
LAST-MODIFIED:20260126T062911Z
LOCATION:Bambinifeuerwehr
PRIORITY:5
SEQUENCE:0
SUMMARY;LANGUAGE=de:FwDV3
TRANSP:OPAQUE
UID:AAAAAF2K+bdeCPBBiaF3qmqlmkcHAF17d1rP3jtPqwOcnFH89l8AB9D7uWkAAF17d1rP3jt
	PqwOcnFH89l8AB9D8PpQAAA==
X-MICROSOFT-CDO-BUSYSTATUS:BUSY
X-MICROSOFT-CDO-IMPORTANCE:1
END:VEVENT
BEGIN:VEVENT
CLASS:PUBLIC
CREATED:20260126T062910Z
DESCRIPTION:Team
DTEND;TZID=Europe/Berlin:20261014T190000
DTSTAMP:20260126T062800Z
DTSTART;TZID=Europe/Berlin:20261014T180000
LAST-MODIFIED:20260126T062911Z
LOCATION:Bambinifeuerwehr
PRIORITY:5
SEQUENCE:0
SUMMARY;LANGUAGE=de:Funkübung
TRANSP:OPAQUE
UID:AAAAAF2K+bdeCPBBiaF3qmqlmkcHAF17d1rP3jtPqwOcnFH89l8AB9D7uWkAAF17d1rP3jt
	PqwOcnFH89l8AB9D8PpUAAA==
X-MICROSOFT-CDO-BUSYSTATUS:BUSY
X-MICROSOFT-CDO-IMPORTANCE:1
END:VEVENT
BEGIN:VEVENT
CLASS:PUBLIC
CREATED:20260126T062910Z
DESCRIPTION:Team
DTEND;TZID=Europe/Berlin:20261021T193000
DTSTAMP:20260126T062800Z
DTSTART;TZID=Europe/Berlin:20261021T180000
LAST-MODIFIED:20260126T062912Z
LOCATION:Bambinifeuerwehr
PRIORITY:5
SEQUENCE:0
SUMMARY;LANGUAGE=de:Schlauchkegeln
TRANSP:OPAQUE
UID:AAAAAF2K+bdeCPBBiaF3qmqlmkcHAF17d1rP3jtPqwOcnFH89l8AB9D7uWkAAF17d1rP3jt
	PqwOcnFH89l8AB9D8PpYAAA==
X-MICROSOFT-CDO-BUSYSTATUS:BUSY
X-MICROSOFT-CDO-IMPORTANCE:1
END:VEVENT
BEGIN:VEVENT
CLASS:PUBLIC
CREATED:20260126T062911Z
DESCRIPTION:Team
DTEND;TZID=Europe/Berlin:20261028T193000
DTSTAMP:20260126T062800Z
DTSTART;TZID=Europe/Berlin:20261028T180000
LAST-MODIFIED:20260126T062912Z
LOCATION:Bambinifeuerwehr
PRIORITY:5
SEQUENCE:0
SUMMARY;LANGUAGE=de:FwDV3 Einheiten im Löschangriff
TRANSP:OPAQUE
UID:AAAAAF2K+bdeCPBBiaF3qmqlmkcHAF17d1rP3jtPqwOcnFH89l8AB9D7uWkAAF17d1rP3jt
	PqwOcnFH89l8AB9D8PpcAAA==
X-MICROSOFT-CDO-BUSYSTATUS:BUSY
X-MICROSOFT-CDO-IMPORTANCE:1
END:VEVENT
BEGIN:VEVENT
CLASS:PUBLIC
CREATED:20260126T062911Z
DESCRIPTION:Team
DTEND;TZID=Europe/Berlin:20261104T193000
DTSTAMP:20260126T062800Z
DTSTART;TZID=Europe/Berlin:20261104T180000
LAST-MODIFIED:20260126T062912Z
LOCATION:Bambinifeuerwehr
PRIORITY:5
SEQUENCE:0
SUMMARY;LANGUAGE=de:Laternen basteln
TRANSP:OPAQUE
UID:AAAAAF2K+bdeCPBBiaF3qmqlmkcHAF17d1rP3jtPqwOcnFH89l8AB9D7uWkAAF17d1rP3jt
	PqwOcnFH89l8AB9D8PpgAAA==
X-MICROSOFT-CDO-BUSYSTATUS:BUSY
X-MICROSOFT-CDO-IMPORTANCE:1
END:VEVENT
BEGIN:VEVENT
CLASS:PUBLIC
CREATED:20260126T062911Z
DESCRIPTION:Team
DTEND;TZID=Europe/Berlin:20261118T193000
DTSTAMP:20260126T062800Z
DTSTART;TZID=Europe/Berlin:20261118T180000
LAST-MODIFIED:20260126T062912Z
LOCATION:Bambinifeuerwehr
PRIORITY:5
SEQUENCE:0
SUMMARY;LANGUAGE=de:Spielerische Fahrzeugkunde
TRANSP:OPAQUE
UID:AAAAAF2K+bdeCPBBiaF3qmqlmkcHAF17d1rP3jtPqwOcnFH89l8AB9D7uWkAAF17d1rP3jt
	PqwOcnFH89l8AB9D8PpkAAA==
X-MICROSOFT-CDO-BUSYSTATUS:BUSY
X-MICROSOFT-CDO-IMPORTANCE:1
END:VEVENT
BEGIN:VEVENT
CLASS:PUBLIC
CREATED:20260126T062911Z
DESCRIPTION:Team
DTEND;TZID=Europe/Berlin:20261125T193000
DTSTAMP:20260126T062800Z
DTSTART;TZID=Europe/Berlin:20261125T180000
LAST-MODIFIED:20260126T062912Z
LOCATION:Bambinifeuerwehr
PRIORITY:5
SEQUENCE:0
SUMMARY;LANGUAGE=de:Erste Hilfe Absetzen eines Notrufes
TRANSP:OPAQUE
UID:AAAAAF2K+bdeCPBBiaF3qmqlmkcHAF17d1rP3jtPqwOcnFH89l8AB9D7uWkAAF17d1rP3jt
	PqwOcnFH89l8AB9D8PpoAAA==
X-MICROSOFT-CDO-BUSYSTATUS:BUSY
X-MICROSOFT-CDO-IMPORTANCE:1
END:VEVENT
BEGIN:VEVENT
CLASS:PUBLIC
CREATED:20260126T062912Z
DESCRIPTION:Team
DTEND;TZID=Europe/Berlin:20261209T190000
DTSTAMP:20260126T062800Z
DTSTART;TZID=Europe/Berlin:20261209T180000
LAST-MODIFIED:20260126T062913Z
LOCATION:Bambinifeuerwehr
PRIORITY:5
SEQUENCE:0
SUMMARY;LANGUAGE=de:Backen für Weihnachten
TRANSP:OPAQUE
UID:AAAAAF2K+bdeCPBBiaF3qmqlmkcHAF17d1rP3jtPqwOcnFH89l8AB9D7uWkAAF17d1rP3jt
	PqwOcnFH89l8AB9D8PpsAAA==
X-MICROSOFT-CDO-BUSYSTATUS:BUSY
X-MICROSOFT-CDO-IMPORTANCE:1
END:VEVENT
BEGIN:VEVENT
CLASS:PUBLIC
CREATED:20260126T062912Z
DESCRIPTION:Team
DTEND;TZID=Europe/Berlin:20261216T193000
DTSTAMP:20260126T062800Z
DTSTART;TZID=Europe/Berlin:20261216T180000
LAST-MODIFIED:20260126T062913Z
LOCATION:Bambinifeuerwehr
PRIORITY:5
SEQUENCE:0
SUMMARY;LANGUAGE=de:Weihnachtsfeier
TRANSP:OPAQUE
UID:AAAAAF2K+bdeCPBBiaF3qmqlmkcHAF17d1rP3jtPqwOcnFH89l8AB9D7uWkAAF17d1rP3jt
	PqwOcnFH89l8AB9D8PpwAAA==
X-MICROSOFT-CDO-BUSYSTATUS:BUSY
X-MICROSOFT-CDO-IMPORTANCE:1
END:VEVENT
END:VCALENDAR
