BEGIN:VCALENDAR
PRODID:-//Microsoft Corporation//Outlook 16.0 MIMEDIR//EN
VERSION:2.0
METHOD:PUBLISH
X-CALSTART:20260114T181500Z
X-CALEND:20261209T201500Z
X-WR-RELCALID:{0000002E-59B8-87F1-0F90-4D4E183B7862}
X-WR-CALNAME:Unbenannt
BEGIN:VTIMEZONE
TZID:Europe/Berlin
BEGIN:STANDARD
DTSTART:16011028T030000
RRULE:FREQ=YEARLY;BYDAY=-1SU;BYMONTH=10
TZOFFSETFROM:+0200
TZOFFSETTO:+0100
END:STANDARD
BEGIN:DAYLIGHT
DTSTART:16010325T020000
RRULE:FREQ=YEARLY;BYDAY=-1SU;BYMONTH=3
TZOFFSETFROM:+0100
TZOFFSETTO:+0200
END:DAYLIGHT
END:VTIMEZONE
BEGIN:VEVENT
CLASS:PUBLIC
CREATED:20260126T063129Z
DESCRIPTION:Herweck
DTEND;TZID=Europe/Berlin:20260114T211500
DTSTAMP:20260126T063100Z
DTSTART;TZID=Europe/Berlin:20260114T191500
LAST-MODIFIED:20260126T063131Z
LOCATION:GW-Mess
PRIORITY:5
SEQUENCE:0
SUMMARY;LANGUAGE=de:Hygienekonzept VG Göllheim
TRANSP:OPAQUE
UID:AAAAAF2K+bdeCPBBiaF3qmqlmkcHAF17d1rP3jtPqwOcnFH89l8AB9D7uWoAAF17d1rP3jt
	PqwOcnFH89l8AB9D8QGwAAA==
X-MICROSOFT-CDO-BUSYSTATUS:BUSY
X-MICROSOFT-CDO-IMPORTANCE:1
END:VEVENT
BEGIN:VEVENT
CLASS:PUBLIC
CREATED:20260126T063130Z
DESCRIPTION:TEF-GSZ
DTEND;TZID=Europe/Berlin:20260205T211500
DTSTAMP:20260126T063100Z
DTSTART;TZID=Europe/Berlin:20260205T191500
LAST-MODIFIED:20260126T063131Z
LOCATION:GW-Mess
PRIORITY:5
SEQUENCE:0
SUMMARY;LANGUAGE=de:TEF-Sitzung
TRANSP:OPAQUE
UID:AAAAAF2K+bdeCPBBiaF3qmqlmkcHAF17d1rP3jtPqwOcnFH89l8AB9D7uWoAAF17d1rP3jt
	PqwOcnFH89l8AB9D8QG0AAA==
X-MICROSOFT-CDO-BUSYSTATUS:BUSY
X-MICROSOFT-CDO-IMPORTANCE:1
END:VEVENT
BEGIN:VEVENT
CLASS:PUBLIC
CREATED:20260126T063130Z
DESCRIPTION:Herweck Nattermann
DTEND;TZID=Europe/Berlin:20260211T211500
DTSTAMP:20260126T063100Z
DTSTART;TZID=Europe/Berlin:20260211T191500
LAST-MODIFIED:20260126T063131Z
LOCATION:GW-Mess
PRIORITY:5
SEQUENCE:0
SUMMARY;LANGUAGE=de:WF Roche Mannheim
TRANSP:OPAQUE
UID:AAAAAF2K+bdeCPBBiaF3qmqlmkcHAF17d1rP3jtPqwOcnFH89l8AB9D7uWoAAF17d1rP3jt
	PqwOcnFH89l8AB9D8QG4AAA==
X-MICROSOFT-CDO-BUSYSTATUS:BUSY
X-MICROSOFT-CDO-IMPORTANCE:1
END:VEVENT
BEGIN:VEVENT
CLASS:PUBLIC
CREATED:20260126T063130Z
DESCRIPTION:Grünewald
DTEND;TZID=Europe/Berlin:20260311T211500
DTSTAMP:20260126T063100Z
DTSTART;TZID=Europe/Berlin:20260311T191500
LAST-MODIFIED:20260126T063131Z
LOCATION:GW-Mess
PRIORITY:5
SEQUENCE:0
SUMMARY;LANGUAGE=de:Gerätekunde Messtechnik A
TRANSP:OPAQUE
UID:AAAAAF2K+bdeCPBBiaF3qmqlmkcHAF17d1rP3jtPqwOcnFH89l8AB9D7uWoAAF17d1rP3jt
	PqwOcnFH89l8AB9D8QG8AAA==
X-MICROSOFT-CDO-BUSYSTATUS:BUSY
X-MICROSOFT-CDO-IMPORTANCE:1
END:VEVENT
BEGIN:VEVENT
CLASS:PUBLIC
CREATED:20260126T063130Z
DESCRIPTION:Nattermann
DTEND;TZID=Europe/Berlin:20260408T211500
DTSTAMP:20260126T063100Z
DTSTART;TZID=Europe/Berlin:20260408T191500
LAST-MODIFIED:20260126T063132Z
LOCATION:GW-Mess
PRIORITY:5
SEQUENCE:0
SUMMARY;LANGUAGE=de:Einsatzübung Brandeinsätze
TRANSP:OPAQUE
UID:AAAAAF2K+bdeCPBBiaF3qmqlmkcHAF17d1rP3jtPqwOcnFH89l8AB9D7uWoAAF17d1rP3jt
	PqwOcnFH89l8AB9D8QHAAAA==
X-MICROSOFT-CDO-BUSYSTATUS:BUSY
X-MICROSOFT-CDO-IMPORTANCE:1
END:VEVENT
BEGIN:VEVENT
CLASS:PUBLIC
CREATED:20260126T063130Z
DESCRIPTION:TEF-GSZ
DTEND;TZID=Europe/Berlin:20260507T211500
DTSTAMP:20260126T063100Z
DTSTART;TZID=Europe/Berlin:20260507T191500
LAST-MODIFIED:20260126T063132Z
LOCATION:GW-Mess
PRIORITY:5
SEQUENCE:0
SUMMARY;LANGUAGE=de:TEF-Sitzung
TRANSP:OPAQUE
UID:AAAAAF2K+bdeCPBBiaF3qmqlmkcHAF17d1rP3jtPqwOcnFH89l8AB9D7uWoAAF17d1rP3jt
	PqwOcnFH89l8AB9D8QHEAAA==
X-MICROSOFT-CDO-BUSYSTATUS:BUSY
X-MICROSOFT-CDO-IMPORTANCE:1
END:VEVENT
BEGIN:VEVENT
CLASS:PUBLIC
CREATED:20260126T063131Z
DESCRIPTION:Herweck
DTEND;TZID=Europe/Berlin:20260513T211500
DTSTAMP:20260126T063100Z
DTSTART;TZID=Europe/Berlin:20260513T191500
LAST-MODIFIED:20260126T063132Z
LOCATION:GW-Mess
PRIORITY:5
SEQUENCE:0
SUMMARY;LANGUAGE=de:Probenahme
TRANSP:OPAQUE
UID:AAAAAF2K+bdeCPBBiaF3qmqlmkcHAF17d1rP3jtPqwOcnFH89l8AB9D7uWoAAF17d1rP3jt
	PqwOcnFH89l8AB9D8QHIAAA==
X-MICROSOFT-CDO-BUSYSTATUS:BUSY
X-MICROSOFT-CDO-IMPORTANCE:1
END:VEVENT
BEGIN:VEVENT
CLASS:PUBLIC
CREATED:20260126T063131Z
DESCRIPTION:Grünewald
DTEND;TZID=Europe/Berlin:20260610T211500
DTSTAMP:20260126T063100Z
DTSTART;TZID=Europe/Berlin:20260610T191500
LAST-MODIFIED:20260126T063132Z
LOCATION:GW-Mess
PRIORITY:5
SEQUENCE:0
SUMMARY;LANGUAGE=de:Einsatzübung C-Lage
TRANSP:OPAQUE
UID:AAAAAF2K+bdeCPBBiaF3qmqlmkcHAF17d1rP3jtPqwOcnFH89l8AB9D7uWoAAF17d1rP3jt
	PqwOcnFH89l8AB9D8QHMAAA==
X-MICROSOFT-CDO-BUSYSTATUS:BUSY
X-MICROSOFT-CDO-IMPORTANCE:1
END:VEVENT
BEGIN:VEVENT
CLASS:PUBLIC
CREATED:20260126T063131Z
DESCRIPTION:Herweck
DTEND;TZID=Europe/Berlin:20260708T211500
DTSTAMP:20260126T063100Z
DTSTART;TZID=Europe/Berlin:20260708T191500
LAST-MODIFIED:20260126T063132Z
LOCATION:GW-Mess
PRIORITY:5
SEQUENCE:0
SUMMARY;LANGUAGE=de:MLK-Übung
TRANSP:OPAQUE
UID:AAAAAF2K+bdeCPBBiaF3qmqlmkcHAF17d1rP3jtPqwOcnFH89l8AB9D7uWoAAF17d1rP3jt
	PqwOcnFH89l8AB9D8QHQAAA==
X-MICROSOFT-CDO-BUSYSTATUS:BUSY
X-MICROSOFT-CDO-IMPORTANCE:1
END:VEVENT
BEGIN:VEVENT
CLASS:PUBLIC
CREATED:20260126T063131Z
DESCRIPTION:TEF-GSZ
DTEND;TZID=Europe/Berlin:20260806T211500
DTSTAMP:20260126T063100Z
DTSTART;TZID=Europe/Berlin:20260806T191500
LAST-MODIFIED:20260126T063133Z
LOCATION:GW-Mess
PRIORITY:5
SEQUENCE:0
SUMMARY;LANGUAGE=de:TEF-Sitzung
TRANSP:OPAQUE
UID:AAAAAF2K+bdeCPBBiaF3qmqlmkcHAF17d1rP3jtPqwOcnFH89l8AB9D7uWoAAF17d1rP3jt
	PqwOcnFH89l8AB9D8QHUAAA==
X-MICROSOFT-CDO-BUSYSTATUS:BUSY
X-MICROSOFT-CDO-IMPORTANCE:1
END:VEVENT
BEGIN:VEVENT
CLASS:PUBLIC
CREATED:20260126T063132Z
DESCRIPTION:Nattermann
DTEND;TZID=Europe/Berlin:20260812T211500
DTSTAMP:20260126T063100Z
DTSTART;TZID=Europe/Berlin:20260812T191500
LAST-MODIFIED:20260126T063133Z
LOCATION:GW-Mess
PRIORITY:5
SEQUENCE:0
SUMMARY;LANGUAGE=de:Einsatzübung A-Lage
TRANSP:OPAQUE
UID:AAAAAF2K+bdeCPBBiaF3qmqlmkcHAF17d1rP3jtPqwOcnFH89l8AB9D7uWoAAF17d1rP3jt
	PqwOcnFH89l8AB9D8QHYAAA==
X-MICROSOFT-CDO-BUSYSTATUS:BUSY
X-MICROSOFT-CDO-IMPORTANCE:1
END:VEVENT
BEGIN:VEVENT
CLASS:PUBLIC
CREATED:20260126T063132Z
DESCRIPTION:Nattermann
DTEND;TZID=Europe/Berlin:20260909T211500
DTSTAMP:20260126T063100Z
DTSTART;TZID=Europe/Berlin:20260909T191500
LAST-MODIFIED:20260126T063133Z
LOCATION:GW-Mess
PRIORITY:5
SEQUENCE:0
SUMMARY;LANGUAGE=de:Einsatzübung C-Lage
TRANSP:OPAQUE
UID:AAAAAF2K+bdeCPBBiaF3qmqlmkcHAF17d1rP3jtPqwOcnFH89l8AB9D7uWoAAF17d1rP3jt
	PqwOcnFH89l8AB9D8QHcAAA==
X-MICROSOFT-CDO-BUSYSTATUS:BUSY
X-MICROSOFT-CDO-IMPORTANCE:1
END:VEVENT
BEGIN:VEVENT
CLASS:PUBLIC
CREATED:20260126T063132Z
DESCRIPTION:Herweck
DTEND;TZID=Europe/Berlin:20261014T211500
DTSTAMP:20260126T063100Z
DTSTART;TZID=Europe/Berlin:20261014T191500
LAST-MODIFIED:20260126T063133Z
LOCATION:GW-Mess
PRIORITY:5
SEQUENCE:0
SUMMARY;LANGUAGE=de:Prüfröhrchen und Messgeräte
TRANSP:OPAQUE
UID:AAAAAF2K+bdeCPBBiaF3qmqlmkcHAF17d1rP3jtPqwOcnFH89l8AB9D7uWoAAF17d1rP3jt
	PqwOcnFH89l8AB9D8QHgAAA==
X-MICROSOFT-CDO-BUSYSTATUS:BUSY
X-MICROSOFT-CDO-IMPORTANCE:1
END:VEVENT
BEGIN:VEVENT
CLASS:PUBLIC
CREATED:20260126T063132Z
DESCRIPTION:TEF-GSZ
DTEND;TZID=Europe/Berlin:20261105T211500
DTSTAMP:20260126T063100Z
DTSTART;TZID=Europe/Berlin:20261105T191500
LAST-MODIFIED:20260126T063134Z
LOCATION:GW-Mess
PRIORITY:5
SEQUENCE:0
SUMMARY;LANGUAGE=de:TEF-Sitzung
TRANSP:OPAQUE
UID:AAAAAF2K+bdeCPBBiaF3qmqlmkcHAF17d1rP3jtPqwOcnFH89l8AB9D7uWoAAF17d1rP3jt
	PqwOcnFH89l8AB9D8QHkAAA==
X-MICROSOFT-CDO-BUSYSTATUS:BUSY
X-MICROSOFT-CDO-IMPORTANCE:1
END:VEVENT
BEGIN:VEVENT
CLASS:PUBLIC
CREATED:20260126T063133Z
DESCRIPTION:Grünewald
DTEND;TZID=Europe/Berlin:20261118T211500
DTSTAMP:20260126T063100Z
DTSTART;TZID=Europe/Berlin:20261118T191500
LAST-MODIFIED:20260126T063134Z
LOCATION:GW-Mess
PRIORITY:5
SEQUENCE:0
SUMMARY;LANGUAGE=de:"unterwiesenes Personal"
TRANSP:OPAQUE
UID:AAAAAF2K+bdeCPBBiaF3qmqlmkcHAF17d1rP3jtPqwOcnFH89l8AB9D7uWoAAF17d1rP3jt
	PqwOcnFH89l8AB9D8QHoAAA==
X-MICROSOFT-CDO-BUSYSTATUS:BUSY
X-MICROSOFT-CDO-IMPORTANCE:1
END:VEVENT
BEGIN:VEVENT
CLASS:PUBLIC
CREATED:20260126T063133Z
DESCRIPTION:Herweck
DTEND;TZID=Europe/Berlin:20261209T211500
DTSTAMP:20260126T063100Z
DTSTART;TZID=Europe/Berlin:20261209T191500
LAST-MODIFIED:20260126T063134Z
LOCATION:GW-Mess
PRIORITY:5
SEQUENCE:0
SUMMARY;LANGUAGE=de:Grenzwerte
TRANSP:OPAQUE
UID:AAAAAF2K+bdeCPBBiaF3qmqlmkcHAF17d1rP3jtPqwOcnFH89l8AB9D7uWoAAF17d1rP3jt
	PqwOcnFH89l8AB9D8QHsAAA==
X-MICROSOFT-CDO-BUSYSTATUS:BUSY
X-MICROSOFT-CDO-IMPORTANCE:1
END:VEVENT
END:VCALENDAR
